BEGIN:VCALENDAR
PRODID:NingEventWidget-v1
VERSION:2.0
METHOD:PUBLISH
BEGIN:VEVENT
UID:1171189:Event:86751
DTSTAMP:20260422T011713Z
SUMMARY:notloB Parlour Concerts presents Jenni Lyn Gardner and Friends
DESCRIPTION:JENNI IS UNABLE TO PERFORM 1/14, WE ARE LOOKING INTO A RES
 CHEDULE DATE.\nwatch for details here and at https://sites.google.com
 /site/notlobmusic/\n\nJenni began playing with her family at local blu
 egrass concerts, church, and school. A sought after session musician, 
 songwriter, and side woman, Jenni has performed everywhere from the Co
 rnish Bluegrass Festival (Newquay, England) to the Grand Ole Opry. She
  toured extensively with 2007 IBMA Male Vocalist of the year, Bradley 
 Walker, and was part of the 2009 IBMA Recorded Event of the Year, \"Pr
 oud to be a Daughter of Bluegrass\".  With band mates Celia Woodsmith 
 (vocals, guitar), Kimber Ludiker (fiddle, vocals), Courtney Hartman (g
 uitar, vocals) and Amanda Kowalski (bass), Jenni Lyn is a member of De
 lla Mae -http://heyheydellamae.com/ In the words of Mike Marshall, “
 These gals can get down and aren’t messing around.”\n\n\n\n\nFor m
 ore information visit http://neighborsforneighbors.org/events/notlob-p
 arlour-concerts-presents-jenni-lyn-gardner-and-friends
DTSTART:20121215T010000Z
DTEND:20121215T033000Z
CATEGORIES:concert
LOCATION:Loring-Greenough House
WEBSITE:http://maps.google.com/maps?f=q&source=s_q&hl=en&geocode=&q=12
 +South+Street+02130&sll=42.351996,-71.057153&sspn=0.010498,0.022724&ie
 =UTF8&hq=&hnear=12+South+St,+Boston,+Suffolk,+Massachusetts+02130&z=16
URL:http://maps.google.com/maps?f=q&source=s_q&hl=en&geocode=&q=12+Sou
 th+Street+02130&sll=42.351996,-71.057153&sspn=0.010498,0.022724&ie=UTF
 8&hq=&hnear=12+South+St,+Boston,+Suffolk,+Massachusetts+02130&z=16
CONTACT:617-524-3158
ORGANIZER;CN="Jeff Boudreau":http://neighborsforneighbors.org/profile/
 JeffBoudreau
ATTACH;FMTTYPE="image/jpeg":http://storage.ning.com/topology/rest/1.0/
 file/get/2245135780?profile=original
ATTENDEE;ROLE=REQ-PARTICIPANT;PARTSTAT=ACCEPTED;RSVP=TRUE;CN="Jeff Bou
 dreau":http://neighborsforneighbors.org/profile/JeffBoudreau
END:VEVENT
END:VCALENDAR
