BEGIN:VCALENDAR
PRODID:NingEventWidget-v1
VERSION:2.0
METHOD:PUBLISH
BEGIN:VEVENT
UID:1171189:Event:88406
DTSTAMP:20260421T200831Z
SUMMARY:notloB Parlour Concerts Presents Julie Metcalf and Andy Reiner
DESCRIPTION:notloB Parlour Concerts is proud to once again present Jul
 ie Metcalf and Andy Reiner. Julie's first notloB performance was on 4/
 11/09, with the Folk Arts Quartet. She since performed with Mariel Van
 dersteel (Blue Moose and the Unbuttoned Zippers) on 12/4/10. Andy has 
 performed for notloB three times, twice with Blue Moose and the Unbutt
 oned Zippers (5/23/09 & 1/23/10) and once with BMUZ mate Stash Wyslouc
 h (2/5/11).Julie Metcalfhttp://www.myspace.com/juliemetcalfAndy Reiner
 http://www.andyreiner.com/. Suggested donation $10 + $1 preservation 
 fee.Doors 7:30, Concert 8:00Reservations - notlobreservations at gmail
  dot comPastries from Fiore'sCoffee from JP LicksMore info - https://
 sites.google.com/site/notlobmusic/Join the mailing list - http://grou
 ps.google.com/group/notlobmusicnotloB Folk Concerts has produced close
  to 100 not-for-profit concerts in the greater Boston area since 2007.
  The series is volunteer-run; 100% of the donations go to the musician
 s and production expenses.\"In this era of pop-driven acoustic music, 
 notloB is keeping the folk tradition alive.\" ~ Jack Hardycoming up...
 February 17 ~ Kimberly Fraser, Brian Conway & Mark Simos, Unity Somerv
 illeMarch 2 ~ Eric McDonald & Katie McNally @ Loring-Greenough House, 
 JP\n\n\n\nFor more information visit http://neighborsforneighbors.org/
 events/notlob-parlour-concerts-presents-julie-metcalf-and-andy-reiner
DTSTART:20120205T010000Z
DTEND:20120205T030000Z
CATEGORIES:concert
LOCATION:Loring-Greenough House
WEBSITE:http://sites.google.com/site/notlobmusic
URL:http://sites.google.com/site/notlobmusic
CONTACT:617-524-3158
ORGANIZER:notloB Parlour Concerts
ATTACH;FMTTYPE="image/jpeg":http://storage.ning.com/topology/rest/1.0/
 file/get/2245140547?profile=original
ATTENDEE;ROLE=REQ-PARTICIPANT;PARTSTAT=ACCEPTED;RSVP=TRUE;CN="Jeff Bou
 dreau":http://neighborsforneighbors.org/profile/JeffBoudreau
END:VEVENT
END:VCALENDAR
