BEGIN:VCALENDAR
PRODID:NingEventWidget-v1
VERSION:2.0
METHOD:PUBLISH
BEGIN:VEVENT
UID:1171189:Event:88821
DTSTAMP:20260421T190641Z
SUMMARY:notloB Parlour Concerts presents Katie McNally & Eric McDonald
DESCRIPTION:notloB Folk Concerts is pleased to welcome back two alumni
 , Eric McDonald (who on 11/2/07 opened for and so impressed the Rowan 
 Brothers they invited him to sit in for most of their set) & Katie McN
 ally, who initiated notloB's series at the Jackson Homestead (5/16/09)
 .Katie McNally and Eric McDonald found each other in high school as li
 ke minded musicians in the Boston traditional music scene. Both sought
  to functionally push the envelope of traditional music, using origina
 l music and modern sensibilty to add new color to the familiar style o
 f tunes that have been passed down for generations. Over the years and
  many impromptu musical moments, this musical relationship congealed i
 nto a cohesive unit. Now the music, while based heavily in the Scottis
 h tradition, is infused with influences from two diverse and educated 
 musical backgrounds, where carefully arranged traditional pieces seaml
 essly give way to original compositions. Having always been two of the
  busiest players around, these two have amassed a reputable list of ex
 perience, currently including the scottish powerhouse Cantrip (McDonal
 d) and the fiddle supergroup Childsplay (McNally). This practiced musi
 cianship shines in the melodic texture and murky tones that linger lon
 g after a McNally/McDonald performance. Suggested donation $12 at th
 e door; $10 if reservation is made at least 24 hours in advance and to
  Loring-Greenough museum members. Plus $1 preservation fee.Doors 7:30,
  Concert 8:00Reservations - notlobreservations at gmail dot comPastrie
 s from Fiore'sCoffee from JP LicksMore infoJoin the mailing listnotloB
  Folk Concerts has produced not-for-profit concerts in the greater Bos
 ton area since 2007. The series is volunteer-run; 100% of the donation
 s go to the musicians and production expenses.\"In this era of pop-dri
 ven acoustic music, notloB is keeping the folk tradition alive.\" ~Ja
 ck HardyUpcoming at the Loring-Greenough House: Darol Anger & Emy Phel
 ps w/ special guest Sharon Gilchrist, 4/12\nFacebook event\n\nFor more
  information visit http://neighborsforneighbors.org/events/notlob-parl
 our-concerts-presents-katie-mcnally-eric-mcdonald
DTSTART:20120303T010000Z
DTEND:20120303T030000Z
CATEGORIES:concert
LOCATION:Loring-Greenough House
WEBSITE:http://maps.google.com/maps?f=q&source=s_q&hl=en&geocode=&q=12
 +South+Street+02130&sll=42.351996,-71.057153&sspn=0.010498,0.022724&ie
 =UTF8&hq=&hnear=12+South+St,+Boston,+Suffolk,+Massachusetts+02130&z=16
URL:http://maps.google.com/maps?f=q&source=s_q&hl=en&geocode=&q=12+Sou
 th+Street+02130&sll=42.351996,-71.057153&sspn=0.010498,0.022724&ie=UTF
 8&hq=&hnear=12+South+St,+Boston,+Suffolk,+Massachusetts+02130&z=16
CONTACT:617-524-3158
ORGANIZER;CN="Jeff Boudreau":http://neighborsforneighbors.org/profile/
 JeffBoudreau
ATTACH;FMTTYPE="image/jpeg":http://storage.ning.com/topology/rest/1.0/
 file/get/2058920288?profile=original
ATTENDEE;ROLE=REQ-PARTICIPANT;PARTSTAT=ACCEPTED;RSVP=TRUE;CN="Jeff Bou
 dreau":http://neighborsforneighbors.org/profile/JeffBoudreau
END:VEVENT
END:VCALENDAR
