BEGIN:VCALENDAR
PRODID:NingEventWidget-v1
VERSION:2.0
METHOD:PUBLISH
BEGIN:VEVENT
UID:1171189:Event:92460
DTSTAMP:20260421T213705Z
SUMMARY:notloB Parlour Concerts Presentsâ€¦ Mike + Ruthy, 11/8, JP
DESCRIPTION:notloB Parlour Concerts Presentsâ€¦Â Mike + RuthyÂ \nÂ \nÂ
  \nÂ \n\"Mike + Ruthy channel Woody Guthrie.\" - Journal & Courier  \"
 The first couple of folk rock.\" - Radio Free Americana  \"Everything 
 else starts from music like this.\" - AmieStreet.com  \"Infectious new
  folk rock\" - Boston GlobeÂ \nÂ \nThursday, November 8Â Â  Suggested 
 donation $14-19 +Â $1 preservation fee. 20% Discount for JPTC members.
 \nArtists' website ~Â http://mikeandruthy.com/\nFacebook event ~Â http
 s://www.facebook.com/events/470249039660543\n Presented at the histori
 cÂ Loring-Greenough House, 12 South Street, Jamaica Plain, MA 02130 Do
 ors 7:30, Concert 8:00pm\n Due to its intimate size, reservations are 
 strongly advised.Â EmailÂ notlobreservations@gmail.com\nConcert & seri
 es information:Â https://sites.google.com/site/notlobmusic/\nFacebook 
 page -Â https://www.facebook.com/notloBFolkConcerts\nPastries from Fio
 re's\nPublic transportation information:Â http://mbta.com/\n\nFor more
  information visit http://neighborsforneighbors.org/events/notlob-parl
 our-concerts-presents-mike-ruthy-11-8-jp
DTSTART:20121109T010000Z
DTEND:20121109T030000Z
CATEGORIES:concert
LOCATION:Loring-Greenough House
WEBSITE:https://sites.google.com/site/notlobmusic
URL:https://sites.google.com/site/notlobmusic
CONTACT:4136584585
ORGANIZER;CN="Jeff Boudreau":http://neighborsforneighbors.org/profile/
 JeffBoudreau
ATTACH;FMTTYPE="image/jpeg":http://storage.ning.com/topology/rest/1.0/
 file/get/2058922914?profile=original
ATTENDEE;ROLE=REQ-PARTICIPANT;PARTSTAT=ACCEPTED;RSVP=TRUE;CN="Jeff Bou
 dreau":http://neighborsforneighbors.org/profile/JeffBoudreau
END:VEVENT
END:VCALENDAR
