BEGIN:VCALENDAR
PRODID:NingEventWidget-v1
VERSION:2.0
METHOD:PUBLISH
BEGIN:VEVENT
UID:1171189:Event:40628
DTSTAMP:20260421T182439Z
SUMMARY:notloB Parlour Concerts presents TRI
DESCRIPTION:After a two year hiatus, notloB returns to its first home,
  the historic (c. 1760) Loring Greenough House in Jamaica plain!\n\nIn
  a way this is a DOUBLE homecoming as TRI's founder, Doug Lamey, grew 
 up on Greenough Ave.\n\nTri specializes in foot tapping Celtic folk mu
 sic, excelling at the music, song and dance of Nova Scotia.\n\nNimbly 
 handling fiddle duties is Doug Lamey. Doug, grandson of Boston fiddlin
 g legend Bill Lamey, is one of the area's most sought after Celtic fid
 dlers. Doug has studied with some of the greats from the Cape Breton t
 radition (Buddy MacMaster) and Irish scene (Tommy Peoples). http://www
 .douglamey.com/\n\nWith the addition of award winning bagpiper Matthew
  Phelps, the band's musical horizons have expanded in countless ways. 
 For more on Matt visit: http://www.massbagpiper.com/\n\nCliff McGann, 
 the band's MC, plays guitar, tin whistle and sings in both English and
  Scottish Gaelic. He has a Masters degree in Folklore from Memorial Un
 iversity of Newfoundland.\nhttp://www.cliffmcgann.com/\n\nSuggested do
 nation $15- at the door; $12- if made at least 24 hours in advance; $1
 0- for students and seniors; $30- max for families. Addition of a $1/p
 erson “preservation fee” that goes to the Loring Greenough House.\
 n\nSeating is limited to 45, reservations are strongly recommended - n
 otlobreservations @ gmail.com\n\n\"In this era of pop-driven acoustic 
 music, notloB is keeping the folk tradition alive.\" ~ Jack Hardy\n\n
 \"From a musician's perspective, I really appreciate the effort Jeff
  puts into his shows. Nobody on the Boston folk scene works harder to 
 pull a concert together.\"\n~ Alastair Moock, in an article written by
  Jonathan Perry, published in The Boston Globe\n\nSee website for more
  information ~\nhttp://sites.google.com/site/notlobmusic\n\n----------
 --------\n\nNot-for-profit notloB folk concerts are run by volunteer p
 ower.\n\nRe-starting the JP series at the historic Loring Greenough Ho
 use in Jamaica Plain will require a pool of dedicated\npeople living i
 n/near JP. Opportunities also exist for concerts\npresented at the Uni
 ty Church of God in Somerville.\n\nWill you help?\n\nNeed: publicity, 
 hospitality, set-up/take-down.\n\nMore info about the series at http:/
 /sites.google.com/site/notlobmusic\n\nQuestions/applications to notlob
 reservations @gmail.com\n\nShare with friends.\n\nThanks\n\nJeff Boudr
 eau\nCo-host/Producer: “In the Tradition”, Tuesdays 5-8pm, WCUW, 9
 1.3fm\nhttp://www.wcuw.org\nhttp://www.facebook.com/group.php?gid=4167
 44893968&ref=ts\n4/13: Tri (live in studio, time tba).\n4/20: Linda Le
 slie, NEFFA Program Chair.\n\nProducer, notloB Folk Concerts & notfarG
  House concerts\nWebsite ~ http://sites.google.com/site/notlobmusic\nn
 otloB mailing list ~ http://groups.google.com/group/notlobmusic\nnotfa
 rG mailing list ~ http://www.reverbnation.com/venue/notfarghouseconcer
 ts\nFacebook ~ http://tinyurl.com/notloBFolkConcerts\nFacebook ~ http:
 //tinyurl.com/notfarGHouseConcerts\n\nOther Spring season concerts:\n4
 /11 Hannah Sanders and Liz Simmons - Newton\n4/17 Tri - JP\n5/1 Tao Ro
 griguez-Seeger Band - Somerville\n5/2 Brendan Hogan - Newton\n5/14 Jim
  Hurst - JP\n6/4 Long Time Courting - Somerville\n6/6 Jo Williamson\n\
 nFor more information visit http://neighborsforneighbors.org/events/no
 tlob-parlour-concerts
DTSTART:20100417T233000Z
DTEND:20100418T013000Z
CATEGORIES:concert
LOCATION:Loring Greenough House
WEBSITE:http://maps.google.com/maps?f=q&source=s_q&hl=en&geocode=&q=12
 +South+Street,+Jamaica+Plain+MA+02130&sll=42.4437,-71.6223&sspn=0.0085
 98,0.026157&ie=UTF8&hq=&hnear=12+South+St,+Boston,+Suffolk,+Massachuse
 tts+02130&z=16
URL:http://maps.google.com/maps?f=q&source=s_q&hl=en&geocode=&q=12+Sou
 th+Street,+Jamaica+Plain+MA+02130&sll=42.4437,-71.6223&sspn=0.008598,0
 .026157&ie=UTF8&hq=&hnear=12+South+St,+Boston,+Suffolk,+Massachusetts+
 02130&z=16
CONTACT:n/a
ORGANIZER;CN="Jeff Boudreau":http://neighborsforneighbors.org/profile/
 JeffBoudreau
ATTACH;FMTTYPE="image/jpeg":http://storage.ning.com/topology/rest/1.0/
 file/get/2202586134?profile=original
ATTENDEE;ROLE=REQ-PARTICIPANT;PARTSTAT=ACCEPTED;RSVP=TRUE;CN="Jeff Bou
 dreau":http://neighborsforneighbors.org/profile/JeffBoudreau
END:VEVENT
END:VCALENDAR
