BEGIN:VCALENDAR
PRODID:NingEventWidget-v1
VERSION:2.0
METHOD:PUBLISH
BEGIN:VEVENT
UID:1171189:Event:68170
DTSTAMP:20260421T220922Z
SUMMARY:Nuestro Futuro Youth Summit
DESCRIPTION:Join us for the Youth Summit, where middle school students
  will present ideas for improving food access, reducing stress and inc
 reasing opportunities for physical activity, in Jamaica Plain.  Famil
 ies, educators, policy makers and providers are all welcome to attend.
   NIH Grant #R24MD005095\n\nFor more information visit http://neighbo
 rsforneighbors.org/events/nuestro-futuro-youth-summit
DTSTART:20110413T170000Z
DTEND:20110413T183000Z
CATEGORIES:youth, summit
LOCATION:Mary E. Curley Middle School
WEBSITE:
URL:
CONTACT:617-627-4276
ORGANIZER:Dr. Linda Martinez
ATTACH;FMTTYPE="image/jpeg":
ATTENDEE;ROLE=REQ-PARTICIPANT;PARTSTAT=ACCEPTED;RSVP=TRUE;CN="Kimberle
 e DeCrescenzo":http://neighborsforneighbors.org/profile/KimberleeDeCre
 scenzo
END:VEVENT
END:VCALENDAR
