BEGIN:VCALENDAR
PRODID:NingEventWidget-v1
VERSION:2.0
METHOD:PUBLISH
BEGIN:VEVENT
UID:1171189:Event:57845
DTSTAMP:20260421T215155Z
SUMMARY:Oaxacan Woodcarving Open House & Holiday Sale
DESCRIPTION:Stop by to meet two talented woodcarvers from Oaxaca, Mexi
 co. see their incredibly inventive carvings, watch a short film about 
 their life in their small, rural village, and purchase their one-of-a-
 kind wooden figures as unique holiday gifts.\n\nFor more information v
 isit http://neighborsforneighbors.org/events/oaxacan-woodcarving-open-
 house-1
DTSTART:20101120T190000Z
DTEND:20101120T210000Z
CATEGORIES:pre-holiday, gift, sale, and, open, house
LOCATION:Jamaica Plain, MA
WEBSITE:http://www.thedancingchickens.com
URL:http://www.thedancingchickens.com
CONTACT:617-522-4008
ORGANIZER;CN="Nina Hasin":http://neighborsforneighbors.org/profile/Nin
 aHasin
ATTACH;FMTTYPE="image/jpeg":http://storage.ning.com/topology/rest/1.0/
 file/get/2245131066?profile=original
ATTENDEE;ROLE=REQ-PARTICIPANT;PARTSTAT=ACCEPTED;RSVP=TRUE;CN="Nina Has
 in":http://neighborsforneighbors.org/profile/NinaHasin
END:VEVENT
END:VCALENDAR
