BEGIN:VCALENDAR
PRODID:NingEventWidget-v1
VERSION:2.0
METHOD:PUBLISH
BEGIN:VEVENT
UID:1171189:Event:86245
DTSTAMP:20260422T013007Z
SUMMARY:Occupy Live Music Tour with Jesse Dee and DWIGHT & NICOLE
DESCRIPTION:Occupy Live Music Tour with Jesse Dee and DWIGHT & NICOLE.
  Tickets (18+ show): $15 in advance, $18 day of show. A portion of the
  proceeds to benefit Occupy Boston.  For further information, www.occ
 upylivemusic.com, www.dwightandnicole.com, www.jessedee.com, or www.ti
 cketmaster.com.  The Occupy Live Music Tour featuring co-headliners Je
 sse Dee and Dwight & Nicole (Dwight Ritcher & Nicole Nelson) kicks off
  at the Paradise for the sole purpose of sharing live music as a way t
 o unite, uplift, and inspire people. A portion of the proceeds to bene
 fit Occupy Boston.  After the Paradise concert, the tour will then tak
 e off to wherever occupiers are in need of the essential ingredient of
  great music. The following stops are on the tour:  Tupelo Music Hall 
 (Londonderry, NH, 11/30), Club Metronome (Burlington, VT, 12/1), South
 paw (Brooklyn, NY, 12/6), Tin Angel (Philadelphia, PA, 12/7), and Iron
  Horse Music Hall (Northampton, MA, 12/8). Admission for each concert 
 varies: $8-$18 sliding scale (with free live streaming of some of the 
 performance for those who cannot attend). More details at www.occupyli
 vemusic.com.  \n \n\nFor more information visit http://neighborsforn
 eighbors.org/events/occupy-live-music-tour-with-jesse-dee-and-dwight-n
 icole
DTSTART:20111127T020000Z
DTEND:20111127T044500Z
CATEGORIES:music, concert, soul, blues, "r&b", rock
LOCATION:Paradise Rock Club
WEBSITE:http://www.thedise.com
URL:http://www.thedise.com
CONTACT:617-562-8800
ORGANIZER:Paradise Rock Club
ATTACH;FMTTYPE="image/jpeg":http://storage.ning.com/topology/rest/1.0/
 file/get/2245137164?profile=original
ATTENDEE;ROLE=REQ-PARTICIPANT;PARTSTAT=ACCEPTED;RSVP=TRUE;CN="Mary Cur
 tin":http://neighborsforneighbors.org/profile/MaryCurtin
END:VEVENT
END:VCALENDAR
