BEGIN:VCALENDAR
PRODID:NingEventWidget-v1
VERSION:2.0
METHOD:PUBLISH
BEGIN:VEVENT
UID:1171189:Event:54359
DTSTAMP:20260421T164448Z
SUMMARY:OCTOBER OPENING RECEPTION
DESCRIPTION:Stop by Thursday evening, October 7th from 6-9 and be the 
 first to see this month's new exhibit featuring K.S. and Mark Soden, p
 lus more.\n\nPASTEL GROUP will be playing @ 8pm.\n\nThis show will be 
 up thru Halloween.\n\nHope to see you there!\n\nFor more information v
 isit http://neighborsforneighbors.org/events/october-opening-reception
DTSTART:20101007T220000Z
DTEND:20101008T010000Z
CATEGORIES:opening, art, reception
LOCATION:the hallway gallery
WEBSITE:http://www.thehallwayjp.com
URL:http://www.thehallwayjp.com
CONTACT:617-818-5996
ORGANIZER;CN="Brent Refsland":http://neighborsforneighbors.org/profile
 /BrentRefsland
ATTACH;FMTTYPE="image/jpeg":http://storage.ning.com/topology/rest/1.0/
 file/get/2245130784?profile=original
ATTENDEE;ROLE=REQ-PARTICIPANT;PARTSTAT=ACCEPTED;RSVP=TRUE;CN="Brent Re
 fsland":http://neighborsforneighbors.org/profile/BrentRefsland
END:VEVENT
END:VCALENDAR
