BEGIN:VCALENDAR
PRODID:NingEventWidget-v1
VERSION:2.0
METHOD:PUBLISH
BEGIN:VEVENT
UID:1171189:Event:54066
DTSTAMP:20260421T183421Z
SUMMARY:One City One Story Community Wide Read - JP Discussion
DESCRIPTION:Join your neighbors for a local discussion of \"The Smile 
 on Happy Chang's Face\", the Boston Book Festival's premier community 
 wide read! The JP Library will host this event on October 7th, 6:30pm 
 - 7:30pm.\n\nDon't have a copy of the story? Find out where you can pi
 ck one here: http://1c1s.tumblr.com/find\n\n\nAnd..make sure to come t
 o the Boston Book Festival in Copley Square and join the One City One 
 Story citywide town hall discussion with author Tom Perrotta. For full
  Book Festival info: http://www.bostonbookfest.org/\n\nFor more inform
 ation visit http://neighborsforneighbors.org/events/one-city-one-story
 -community
DTSTART:20101007T223000Z
DTEND:20101007T233000Z
CATEGORIES:community, wide, read, discussion
LOCATION:JP Branch Library
WEBSITE:
URL:
CONTACT:
ORGANIZER:JP Branch Library
ATTACH;FMTTYPE="image/jpeg":http://storage.ning.com/topology/rest/1.0/
 file/get/2245130965?profile=original
ATTENDEE;ROLE=REQ-PARTICIPANT;PARTSTAT=ACCEPTED;RSVP=TRUE;CN="Nia Lewi
 s":http://neighborsforneighbors.org/profile/NiaLewis
END:VEVENT
END:VCALENDAR
