BEGIN:VCALENDAR
PRODID:NingEventWidget-v1
VERSION:2.0
METHOD:PUBLISH
BEGIN:VEVENT
UID:1171189:Event:81074
DTSTAMP:20260421T202622Z
SUMMARY:Open House - 17 Green Street - 9/10, 11 am - 1 pm
DESCRIPTION:Please come on by to check out our open house!\nSaturday, 
 9/10, 11 am - 1 pm.\n17greenstreet.com\nThanks!\n\nFor more informatio
 n visit http://neighborsforneighbors.org/events/open-house-17-green-st
 reet-9-10-11-am-1-pm
DTSTART:20110910T150000Z
DTEND:20110910T170000Z
CATEGORIES:open, house
LOCATION:JP Center
WEBSITE:http://www.17greenstreet.com
URL:http://www.17greenstreet.com
CONTACT:
ORGANIZER;CN=Duncan:http://neighborsforneighbors.org/profile/Duncan
ATTACH;FMTTYPE="image/jpeg":
ATTENDEE;ROLE=REQ-PARTICIPANT;PARTSTAT=ACCEPTED;RSVP=TRUE;CN=Duncan:ht
 tp://neighborsforneighbors.org/profile/Duncan
END:VEVENT
END:VCALENDAR
