BEGIN:VCALENDAR
PRODID:NingEventWidget-v1
VERSION:2.0
METHOD:PUBLISH
BEGIN:VEVENT
UID:1171189:Event:81744
DTSTAMP:20260421T190410Z
SUMMARY:Open House - 17 Green Street - 9/18, 11 am - 1 pm
DESCRIPTION:Please stop on by to see an open house at 17 Green Street.
 \nSunday, 9/18, 11 am -1 pm\nwww.17greenstreet.com\n \nWe'll be servi
 ng local fare from \"Whoopie Monster\"!\n\nFor more information visit 
 http://neighborsforneighbors.org/events/open-house-17-green-street-9-1
 8-11-am-1-pm
DTSTART:20110918T150000Z
DTEND:20110918T170000Z
CATEGORIES:open, house
LOCATION:Central JP
WEBSITE:http://www.17greenstreet.com
URL:http://www.17greenstreet.com
CONTACT:617-504-0720
ORGANIZER;CN=Duncan:http://neighborsforneighbors.org/profile/Duncan
ATTACH;FMTTYPE="image/jpeg":
ATTENDEE;ROLE=REQ-PARTICIPANT;PARTSTAT=ACCEPTED;RSVP=TRUE;CN=Duncan:ht
 tp://neighborsforneighbors.org/profile/Duncan
END:VEVENT
END:VCALENDAR
