BEGIN:VCALENDAR
PRODID:NingEventWidget-v1
VERSION:2.0
METHOD:PUBLISH
BEGIN:VEVENT
UID:1171189:Event:34962
DTSTAMP:20260421T223114Z
SUMMARY:OPEN HOUSE: 1BRM rental. Beecher Street. Dogs Ok!
DESCRIPTION:Come by and check out my awesome 1bdrm apartment that is\n
 available April 1. Rent is $1450. No fee.\n\n \nFind more videos like 
 this on Neighbors for Neighbors JP\n\nFor more information visit http:
 //neighborsforneighbors.org/events/open-house-1brm-rental-beecher
DTSTART:20100213T050000Z
DTEND:20100213T180000Z
CATEGORIES:open, house
LOCATION:Beecher Street
WEBSITE:
URL:
CONTACT:857-222-4420
ORGANIZER;CN="Joseph Porcelli (Chief Neighbor)":http://neighborsfornei
 ghbors.org/profile/josephporcelli
ATTACH;FMTTYPE="image/jpeg":http://storage.ning.com/topology/rest/1.0/
 file/get/2245123267?profile=original
ATTENDEE;ROLE=REQ-PARTICIPANT;PARTSTAT=ACCEPTED;RSVP=TRUE;CN="Joseph P
 orcelli (Chief Neighbor)":http://neighborsforneighbors.org/profile/jos
 ephporcelli
END:VEVENT
END:VCALENDAR
