BEGIN:VCALENDAR
PRODID:NingEventWidget-v1
VERSION:2.0
METHOD:PUBLISH
BEGIN:VEVENT
UID:1171189:Event:35294
DTSTAMP:20260421T170321Z
SUMMARY:Open House for Parkside Victorian Condominium for Sale
DESCRIPTION:Offered at $339,000\n2BR, 1 BA, 1282sf\n\nStunningly resto
 red unit in a turn of the century \"painted lady\". Period details inc
 lude carved oak mantelpiece, butler pantry, pocket doors, period light
  fixtures and ceiling medallions. All this combined with modern bath a
 nd kitchen. The in-unit laundry, and sun-deck make this a wonderful va
 lue. Mature perennial and herb gardens fenced in along the side of the
  house and in the backyard - perfect for dogs and relaxing in the sun.
  Walk to the T, Parks, and JP's best bakery.\n\nPlease see www.5sylvia
 st.com for more details\n\n\n\n\nFor more information visit http://nei
 ghborsforneighbors.org/events/open-house-for-parkside
DTSTART:20100221T170000Z
DTEND:20100221T190000Z
CATEGORIES:open, house
LOCATION:5 Sylvia St. U1 Jamaica Plain, MA 02130
WEBSITE:http://www.5sylviast.com
URL:http://www.5sylviast.com
CONTACT:617-383-9374
ORGANIZER;CN=Richard:http://neighborsforneighbors.org/profile/Richard
ATTACH;FMTTYPE="image/jpeg":http://storage.ning.com/topology/rest/1.0/
 file/get/2058920992?profile=original
ATTENDEE;ROLE=REQ-PARTICIPANT;PARTSTAT=ACCEPTED;RSVP=TRUE;CN=Richard:h
 ttp://neighborsforneighbors.org/profile/Richard
END:VEVENT
END:VCALENDAR
