BEGIN:VCALENDAR
PRODID:NingEventWidget-v1
VERSION:2.0
METHOD:PUBLISH
BEGIN:VEVENT
UID:1171189:Event:34613
DTSTAMP:20260421T182214Z
SUMMARY:OPENING RECEPTION: JP to Me 2010… from Emeralds to Jewels
DESCRIPTION:JP to Me 2010… from Emeralds to Jewels is a themed exhib
 it showcasing 40 artists with ties to Jamaica Plain, Massachusetts.\n\
 nOPENING RECEPTION:\nSaturday, Feb. 6, 2010\n6 - 8 pm\n\nEach particip
 ant has been randomly assigned one of five emeralds: Franklin Park, Ar
 nold Arboretum, Forest Hills (including the cemetery), Southwest Corri
 dor, or Jamaica Pond. The challenge: to discover a jewel within their 
 emerald. A jewel could be anything: a place, a feeling, a happening.\n
 \nViewing hours:\nFridays and Saturdays, Jan. 29 -Feb. 13\n7-10 pm\n\n
 For more information visit http://neighborsforneighbors.org/events/ope
 ning-reception-jp-to-me
DTSTART:20100206T230000Z
DTEND:20100207T010000Z
CATEGORIES:art, exhibition
LOCATION:The Footlight Club
WEBSITE:http://www.jptome.com
URL:http://www.jptome.com
CONTACT:
ORGANIZER:Robert Festa
ATTACH;FMTTYPE="image/jpeg":http://storage.ning.com/topology/rest/1.0/
 file/get/2245137202?profile=original
ATTENDEE;ROLE=REQ-PARTICIPANT;PARTSTAT=ACCEPTED;RSVP=TRUE;CN=Jennifer:
 http://neighborsforneighbors.org/profile/Jennifer
END:VEVENT
END:VCALENDAR
