BEGIN:VCALENDAR
PRODID:NingEventWidget-v1
VERSION:2.0
METHOD:PUBLISH
BEGIN:VEVENT
UID:1171189:Event:37661
DTSTAMP:20260421T200237Z
SUMMARY:ORANGE - Mash - Up The Rebirth- Resident DJ John Davis
DESCRIPTION:ALCHEMIST\n\n3/13/2010 10:00 PM at Orange The Mash Up The 
 Rebirth With Resident Dj John Davis From Ireland\n435 South Huntington
  Avenue, Jamaica Plain, 02130\nCost: Always Free\n\nORANGE - Mash - Up
  The Rebirth- Resident DJ John Davis At the beginning of this new mill
 enia, one party stood apart from all the others, it was a night of con
 sistently high quality house music where some of the worldâ€™s top DJâ
 €™s thrilled many unsuspecting music lovers with their ability to brin
 g the funk on. The night was called Orange and now itâ€™s back in a ne
 w venue on a weekend night.\n\nFor more information visit http://neigh
 borsforneighbors.org/events/orange-mash-up-the-rebirth-1
DTSTART:20100314T030000Z
DTEND:20100314T060000Z
CATEGORIES:dj, night
LOCATION:The Alchemist Lounge
WEBSITE:http://alchemistlounge.com
URL:http://alchemistlounge.com
CONTACT:617-477-5741
ORGANIZER;CN=Lyndon:http://neighborsforneighbors.org/profile/Lyndon
ATTACH;FMTTYPE="image/jpeg":
ATTENDEE;ROLE=REQ-PARTICIPANT;PARTSTAT=ACCEPTED;RSVP=TRUE;CN=Lyndon:ht
 tp://neighborsforneighbors.org/profile/Lyndon
END:VEVENT
END:VCALENDAR
