BEGIN:VCALENDAR
PRODID:NingEventWidget-v1
VERSION:2.0
METHOD:PUBLISH
BEGIN:VEVENT
UID:1171189:Event:75147
DTSTAMP:20260421T200541Z
SUMMARY:\"Out of the Woodwork\" Acoustic Night
DESCRIPTION:A free, fun, and relaxing acoustic night featuring local m
 usic heroes:Heather Foxwell (Little Bones) - http://littlebones.bandca
 mp.com/album/summit-of-happinessReeling Kites - http://reelingkites.ba
 ndcamp.com/Justin Emile (Big East) - http://soundcloud.com/justinemile
 /sets/sizewise/\n\nAnne Warnock (Pray for Polanski) - http://www.prayf
 orpolanski.bandcamp.com\n\nLauren DeRose - http://www.myspace.com/laur
 enderose\n\nFor more information visit http://neighborsforneighbors.or
 g/events/out-of-the-woodwork-acoustic
DTSTART:20110630T010000Z
DTEND:20110630T040000Z
CATEGORIES:concert, live, acoustic, folk
LOCATION:Milky Way Lounge
WEBSITE:http://www.milkywayjp.com
URL:http://www.milkywayjp.com
CONTACT:617-524-3740 x22
ORGANIZER:Justin Emile
ATTACH;FMTTYPE="image/jpeg":http://storage.ning.com/topology/rest/1.0/
 file/get/2245132982?profile=original
ATTENDEE;ROLE=REQ-PARTICIPANT;PARTSTAT=ACCEPTED;RSVP=TRUE;CN="Carol Do
 wns":http://neighborsforneighbors.org/profile/CarolDowns
END:VEVENT
END:VCALENDAR
