BEGIN:VCALENDAR
PRODID:NingEventWidget-v1
VERSION:2.0
METHOD:PUBLISH
BEGIN:VEVENT
UID:1171189:Event:87984
DTSTAMP:20260421T204013Z
SUMMARY:Over The Line - a high concept, low budget rock opera about id
 eology, indoctrination, and inner transformation.
DESCRIPTION:Jamaica Plain based musician/activist Brian O'Connell pres
 ents his new original rock opera, Over The Line, at Spontaneous Celebr
 ations on Saturday, February 4, 2012, 5:00 & 8:00pm, $10. Over The Lin
 e is a high concept, low budget, satirical psychological rock opera ab
 out ideology, indoctrination, unwritten rules and inner transformation
 . Written and directed by Brian O'Connell, known for his kinetic bass 
 playing with Uncle Sammy, Gordon Stone, Gary Backstrom, The Grass Gyps
 ys, and many others.Over The Line is a rock song cycle set in a theatr
 ical setting complete with over sized puppet actors, spoken word, and 
 a 10-piece band with 8 singers (4 female and 4 male) featuring The Gra
 ss Gypsys and members of Brief Awakening. The performance will take pl
 ace in the Jamaica Plain neighborhood of Boston at Spontaneous Celebra
 tions, a grassroots community center that organizes creative arts prog
 rams and festivals. \"This is the culmination of years of conceptualiz
 ing, writing, and work. I'm super psyched to be putting this dream sho
 w together with such amazing instrumentalists and singers. This show i
 s sure to appeal to anyone who's into prog-pop, musicals, radical soci
 al viewpoints, great singing, and great playing. There will also be op
 portunities to think, sit, and dance.\"All proceeds to benefit the cul
 tural programming and operations of Spontaneous Celebrations. www.bria
 nvincentoconnell.comwww.spontaneouscelebrations.orgwww.thegrassgypsys.
 comwww.myspace.com/briefawakeningContact: Brian O'Connell617-94-8983vi
 nniechops@hotmail.com***Over The Line - A high concept, low budget, mu
 lti-media psychological rock opera about ideology, indoctrination, unw
 ritten rules and inner transformation. Written & Directed by Brian O'C
 onnellSpontaneous Celebrations45 Danforth Street, Jamaica Plain, MAA f
 ew shorts steps from the Stony Brook T StopWith an all star band featu
 ring The Grass Gypsys and members of Brief Awakening!!!The Band:Brian 
 O'Connell - guitar, bass, vocals Justin Kleya - guitar, vocals Kevin S
 ilvia - bass, guitar, vocals Joel Ockenheim - keysSam Ward - drumsDave
  Scandurra - percussion, vocals Kat Arrants Pettrucci - vocalsKara-Lyn
 n Pettrucci - vocalsJenna O'Connell - vocalsColleen Kleya - vocalsHear
  what they're saying about Over The Line: \"If you love the theatrical
  rock inclinations of Gabriel era Genesis, Zappa, Phish, Todd Rundgren
 , and Pink Floyd then this show is for you!\" - Margaret Thatcher\"The
  best part of the show was that they had big puppets…I loved the pup
 pets.\" - Kenny McCormick\"Viva Over The Line!\" - Subcomandante Marco
 s\"The archetypes that this particular piece of so called 'music theat
 re' presents are dangerous and should not be messed with by unqualifie
 d dilettantes such as Mr. O'Connell.\" - C.G. Jung\"I was both terrifi
 ed and excited by Over The Line. Nice job.\" - Mayor Tom Menino\"I hat
 ed it. Prog-pop sucks.\" - Dave Mathews\"Brian O'Connell? Do you mean 
 the football player? \" - Bill Bruford\"Too bad this guy didn't take m
 y songwriting course.\" - Dave Grohlhttp://www.youtube.com/watch?v=34r
 pzSQk_PE&feature=relatedContact: Brian O'Connell617-94-8983vinniechops
 @hotmail.com\n\nFor more information visit http://neighborsforneighbor
 s.org/events/over-the-line-a-high-concept-low-budget-rock-opera-about-
 ideology
DTSTART:20120204T220000Z
DTEND:20120205T040000Z
CATEGORIES:"concert/musical/rock", opera
LOCATION:Spontaneous Celebrations
WEBSITE:http://www.spontaneouscelebrations.org/
URL:http://www.spontaneouscelebrations.org/
CONTACT:(617) 524-6373
ORGANIZER;CN="Brian O'Connell":http://neighborsforneighbors.org/profil
 e/BrianOConnell
ATTACH;FMTTYPE="image/jpeg":
ATTENDEE;ROLE=REQ-PARTICIPANT;PARTSTAT=ACCEPTED;RSVP=TRUE;CN="Brian O'
 Connell":http://neighborsforneighbors.org/profile/BrianOConnell
END:VEVENT
END:VCALENDAR
