BEGIN:VCALENDAR
PRODID:NingEventWidget-v1
VERSION:2.0
METHOD:PUBLISH
BEGIN:VEVENT
UID:1171189:Event:87193
DTSTAMP:20260421T185949Z
SUMMARY:Pancake Breakfast for Bike Commuters
DESCRIPTION:Go green for Boston's Walk/Ride Day! Ride your bike to wor
 k and enjoy a free breakfast courtesy of Ferris Wheels Bike Shop. For 
 more info on Walk/Ride Day, including how you can enter to win great p
 rizes, please visit: http://www.gogreenstreets.org/\n\nFor more inform
 ation visit http://neighborsforneighbors.org/events/pancake-breakfast-
 for-bike-commuters-2
DTSTART:20120127T120000Z
DTEND:20120127T140000Z
CATEGORIES:breakfast
LOCATION:Ferris Wheels Bike Shop
WEBSITE:http://www.ferriswheelsbikeshop.com/whereitis.php
URL:http://www.ferriswheelsbikeshop.com/whereitis.php
CONTACT:617-524-2453
ORGANIZER;CN="Ferris Wheels Bike Shop":http://neighborsforneighbors.or
 g/profile/FerrisWheelsBikeShop
ATTACH;FMTTYPE="image/jpeg":http://storage.ning.com/topology/rest/1.0/
 file/get/2245137453?profile=original
ATTENDEE;ROLE=REQ-PARTICIPANT;PARTSTAT=ACCEPTED;RSVP=TRUE;CN="Ferris W
 heels Bike Shop":http://neighborsforneighbors.org/profile/FerrisWheels
 BikeShop
END:VEVENT
END:VCALENDAR
