BEGIN:VCALENDAR
PRODID:NingEventWidget-v1
VERSION:2.0
METHOD:PUBLISH
BEGIN:VEVENT
UID:1171189:Event:91999
DTSTAMP:20260421T190003Z
SUMMARY:Parenting A Child With Autism
DESCRIPTION:L.A.U.G.H.S. Institute, Inc. will be hosting a forum to h
 elp parents enhance their knowledge and skills in understanding the de
 velopment of humor in autistic children. This seminar will demonstrate
  the therapeutic benefits of humor and how it helps reduce stress asso
 ciated with parenting a child with autism.  Current autism research o
 n humor will be discussed and shared with the participants.  For more
  information and to register for this seminar visit L.A.U.G.H.S. Insti
 tute at http;//www.laughsrus.com.  The Fellowes Athenaeum Fund of the
  Boston Public Library supports this presentation.\n  \n\n\nFor more 
 information visit http://neighborsforneighbors.org/events/parenting-a-
 child-with-autism
DTSTART:20121110T200000Z
DTEND:20121110T220000Z
CATEGORIES:free, community, forum
LOCATION:Dudley Library
WEBSITE:http://wwww.laughsrus.com
URL:http://wwww.laughsrus.com
CONTACT:617-840-3281
ORGANIZER;CN="dorothea Keeling":http://neighborsforneighbors.org/profi
 le/dorotheaKeeling
ATTACH;FMTTYPE="image/jpeg":
ATTENDEE;ROLE=REQ-PARTICIPANT;PARTSTAT=ACCEPTED;RSVP=TRUE;CN="dorothea
  Keeling":http://neighborsforneighbors.org/profile/dorotheaKeeling
ATTENDEE;ROLE=REQ-PARTICIPANT;PARTSTAT=TENTATIVE;RSVP=TRUE;CN="Maria S
 un":http://neighborsforneighbors.org/profile/MariaSun
END:VEVENT
END:VCALENDAR
