BEGIN:VCALENDAR
PRODID:NingEventWidget-v1
VERSION:2.0
METHOD:PUBLISH
BEGIN:VEVENT
UID:1171189:Event:74346
DTSTAMP:20260421T213030Z
SUMMARY:Paul Gore Street Wide Yard Sales
DESCRIPTION:All along Paul Gore St and neighboring streets, many, many
  yard sales!!  Not just multi-family, this is the whole street.  Lot
 s of things for everyone.  Saturday June 11th, starting at 9am.  Bet
 ween Hyde Sq and Stony Brook T.\n(Rain date is June 18th)\n\nFor more 
 information visit http://neighborsforneighbors.org/events/paul-gore-st
 reet-wide-yard-1
DTSTART:20110611T130000Z
DTEND:20110611T190000Z
CATEGORIES:yard, sale
LOCATION:Paul Gore St
WEBSITE:https://sites.google.com/site/paulgoreneighbors/
URL:https://sites.google.com/site/paulgoreneighbors/
CONTACT:
ORGANIZER;CN="Jenny Jones":http://neighborsforneighbors.org/profile/Je
 nnyJones
ATTACH;FMTTYPE="image/jpeg":
ATTENDEE;ROLE=REQ-PARTICIPANT;PARTSTAT=ACCEPTED;RSVP=TRUE;CN="Jenny Jo
 nes":http://neighborsforneighbors.org/profile/JennyJones
END:VEVENT
END:VCALENDAR
