BEGIN:VCALENDAR
PRODID:NingEventWidget-v1
VERSION:2.0
METHOD:PUBLISH
BEGIN:VEVENT
UID:1171189:Event:44608
DTSTAMP:20260421T182512Z
SUMMARY:Paul Gore Street Wide Yard Sales
DESCRIPTION:(we moved it a week because of the rain, but there still m
 ight be a few sales on the 5th)\nPaul Gore Neighbors Yard Sales - all 
 along the street people come out and sell stuff, all on one day Saturd
 ay June 12th 9am to Noon or later. Do not miss the most fun yard sale 
 event of the year!!\n\nFor more information visit http://neighborsforn
 eighbors.org/events/paul-gore-street-wide-yard
DTSTART:20100612T130000Z
DTEND:20100612T160000Z
CATEGORIES:yard, sales
LOCATION:Paul Gore St (all of it)
WEBSITE:
URL:
CONTACT:
ORGANIZER;CN="Jenny Jones":http://neighborsforneighbors.org/profile/Je
 nnyJones
ATTACH;FMTTYPE="image/jpeg":http://storage.ning.com/topology/rest/1.0/
 file/get/2245129435?profile=original
ATTENDEE;ROLE=REQ-PARTICIPANT;PARTSTAT=ACCEPTED;RSVP=TRUE;CN="Jenny Jo
 nes":http://neighborsforneighbors.org/profile/JennyJones
ATTENDEE;ROLE=REQ-PARTICIPANT;PARTSTAT=ACCEPTED;RSVP=TRUE;CN="Joseph P
 orcelli (Chief Neighbor)":http://neighborsforneighbors.org/profile/jos
 ephporcelli
ATTENDEE;ROLE=REQ-PARTICIPANT;PARTSTAT=ACCEPTED;RSVP=TRUE;CN=Matt:http
 ://neighborsforneighbors.org/profile/Matt
ATTENDEE;ROLE=REQ-PARTICIPANT;PARTSTAT=ACCEPTED;RSVP=TRUE;CN="Sage Rad
 achowsky":http://neighborsforneighbors.org/profile/SageRadachowsky
ATTENDEE;ROLE=REQ-PARTICIPANT;PARTSTAT=ACCEPTED;RSVP=TRUE;CN="Nameeta 
 Dookeran":http://neighborsforneighbors.org/profile/NameetaDookeran
ATTENDEE;ROLE=REQ-PARTICIPANT;PARTSTAT=ACCEPTED;RSVP=TRUE;CN="Erin A."
 :http://neighborsforneighbors.org/profile/mzamar
ATTENDEE;ROLE=REQ-PARTICIPANT;PARTSTAT=ACCEPTED;RSVP=TRUE;CN="Mitchell
  Lunsford":http://neighborsforneighbors.org/profile/MitchellLunsford
ATTENDEE;ROLE=REQ-PARTICIPANT;PARTSTAT=TENTATIVE;RSVP=TRUE;CN="leena i
 ":http://neighborsforneighbors.org/profile/leenai
ATTENDEE;ROLE=REQ-PARTICIPANT;PARTSTAT=TENTATIVE;RSVP=TRUE;CN="Phoebe 
 Sinclair":http://neighborsforneighbors.org/profile/PhoebeSinclair
END:VEVENT
END:VCALENDAR
