BEGIN:VCALENDAR
PRODID:NingEventWidget-v1
VERSION:2.0
METHOD:PUBLISH
BEGIN:VEVENT
UID:1171189:Event:37202
DTSTAMP:20260421T182234Z
SUMMARY:Paul Turano and Matt McWilliams at Loring-Greenough Film
DESCRIPTION:For our seventh screening we are happy to present the film
 s of Roslindale-based filmmaker Paul Turano and his former student at 
 Emerson, Matt McWilliams. Join us for drinks and snacks around 7 pm; s
 creening begins at 7:30. If you can, please support our venue with a $
 4 donation.\n\nBIOS\n\nPaul Turano has independently produced numerous
  award-wining experimental films and videos over the last 15+ years. H
 is work has been exhibited nationally and abroad at museums, micro-cin
 emas, alternative venues, colleges and universities and has been shown
  at festivals throughout North America including the Black Maria, Athe
 ns International, Hartford International, FLEX FEST Florida Experiment
 al, and the New England Film and Video festivals. His recent digital v
 ideo \"I Covered My Eyes\" screened this past summer at the Globians W
 orld and Culture Documentary Film Festival in Berlin, Germany and in A
 ustralia at the Sydney Underground Film Festival. Based in Boston, his
  films have been shown at the Harvard Film Archive, the Coolidge Corne
 r Theater, the Embassy Theater, and the Museum of Fine Arts. He is the
  recipient of a Media Fellowship from the Massachusetts Cultural Counc
 il and a Moving Image Fund Grant from the LEF Foundation and has been 
 an Artist-in-Residence at Emerson College since the fall of 2007. www.
 paulturano.com\n\nMatt McWilliams is a graduate of Emerson College who
  is currently making and screening films here in Jamaica Plain and aro
 und New England.\n\nPROGRAM\n\nM A T T M c W I L L I A M S\n\nSons and
  Cattle,16mm, color, sound, 12 min, 2009\nSketches for Sons and Cattle
 , super8, color, silent, 5 min\nUntitled (co-created with Eileen Richa
 rdson),16mm, b&w, silent, 3 min\nCounter,16mm, b&w, silent, 3 min\nHar
 boring, 16mm, b&w, silent, 3 min\nMaking Space, 16mm, color, 3 min\n\n
 P A U L T U R A N O\n\nPorch Film: 76 Day St. Apt. #2,16mm, color, sou
 nd, 18 min, 2004\nWindows onto Montebello Road, 16mm, color, sound, 21
  min, 2009\n\nFor more information visit http://neighborsforneighbors.
 org/events/paul-turano-and-matt
DTSTART:20100316T230000Z
DTEND:20100317T020000Z
CATEGORIES:film, screening
LOCATION:Loring-Greenough House
WEBSITE:http://lghfilm.blogspot.com
URL:http://lghfilm.blogspot.com
CONTACT:
ORGANIZER:Mariya & Stefan
ATTACH;FMTTYPE="image/jpeg":http://storage.ning.com/topology/rest/1.0/
 file/get/2245124524?profile=original
ATTENDEE;ROLE=REQ-PARTICIPANT;PARTSTAT=ACCEPTED;RSVP=TRUE;CN=Marie:htt
 p://neighborsforneighbors.org/profile/Marie
END:VEVENT
END:VCALENDAR
