BEGIN:VCALENDAR
PRODID:NingEventWidget-v1
VERSION:2.0
METHOD:PUBLISH
BEGIN:VEVENT
UID:1171189:Event:50482
DTSTAMP:20260421T165854Z
SUMMARY:Peace of Pie
DESCRIPTION:For the past three years the Annual Peace of Pie Contest h
 as raised over $6,000 to help save the lives of some of the world’s 
 neediest children. Once again the HardtHaven Children’s Home in Ghan
 a and the Big Sister Association of Greater Boston will be the recipie
 nts of our much needed financial support.\n\nPie baking judges include
 ... YOU, Janine Sciarappa,pastry chef instructor at BU, and and Stepha
 n Viau, Chef Instructor at Cambridge Culinary School.\n\nBring your be
 st pie to be judged by the professionals and your peers ($15 entrance 
 fee)! Or, just come for the tasting ($20 entrance fee). Those of you w
 ith a competitive streak may like to enter the pie eating contest ($15
  entrance fee).\n\nSpecial Thanks to Stop & Shop, our premier sponsor.
 \n\nFor more information visit http://neighborsforneighbors.org/events
 /peace-of-pie
DTSTART:20100821T170000Z
DTEND:20100821T190000Z
CATEGORIES:fundraiser
LOCATION:Curtis Hall Community Center
WEBSITE:http://www.facebook.com/group.php?gid=16146082846&ref=ts#!/eve
 nt.php?eid=120016438021836&ref=mf
URL:http://www.facebook.com/group.php?gid=16146082846&ref=ts#!/event.p
 hp?eid=120016438021836&ref=mf
CONTACT:
ORGANIZER;CN=Dana:http://neighborsforneighbors.org/profile/Dana
ATTACH;FMTTYPE="image/jpeg":http://storage.ning.com/topology/rest/1.0/
 file/get/2245130373?profile=original
ATTENDEE;ROLE=REQ-PARTICIPANT;PARTSTAT=ACCEPTED;RSVP=TRUE;CN=Dana:http
 ://neighborsforneighbors.org/profile/Dana
END:VEVENT
END:VCALENDAR
