BEGIN:VCALENDAR
PRODID:NingEventWidget-v1
VERSION:2.0
METHOD:PUBLISH
BEGIN:VEVENT
UID:1171189:Event:89018
DTSTAMP:20260421T182744Z
SUMMARY:Pentimento presents Canciones, Danzas y Diferencias--  Spanish
  songs, dances & variations from the 16th-18th centuries on April 1, 2
 012
DESCRIPTION:Sunday April 1, at 3:00 p.m.,Pentimento (Olav Chris Henrik
 sen, vihuela & guitars and Eric Haas, recorders & flutes) will present
  a program of Spanish songs, dances, fantasias and variations from the
  16th-18th centuries.The first half of the program will include the be
 autiful chanson Doulce memoire, on a text said to have been written by
  François I of France during his captivity in Madrid in an elaborate 
 setting by Diego Ortiz; a fantasia, pavana & gallarda by Luys Milan fo
 r vihuela solo (an ancestor of the modern guitar); settings of the hau
 ntingly beautiful Paseabase el rey moro (the lament of the King of the
  Moors as he surveyed the devastated city of Granada); a fantasia and 
 villancico for Renaissance guitar (a small instrument similar to a uke
 lele), and two settings by Antonio de Cabezón (an ornamented version 
 of a Crecquillon chanson 'Prenez pitie' and 'Diferencias' (variations)
  on an Italian pavan (owing to Cabezón's arrangement, the tune became
  known throughout Europe as the 'Spanish Pavan'!)The second half of th
 e program opens with an elaborate set of diminutions on Palestrina's m
 adrigal 'Vestiva i colli' by Bartolomeo de Selma y Salverdo, a Neapoli
 tan bassoonist (the kingdom of Naples was under Spanish rule for most 
 of the 16th-18th centuries); a lively set of Canarios for baroque guit
 ar solo by Gaspar Sanz; songs by José Marin, Francisco Correa de Arau
 xo and Juan Hidalgo (including an operatic mad scene); guitar music fr
 om the Santiago de Murcias manuscripts from Mexico and Peru, and concl
 udes with an anonymous set of variations on 'La Folias de Espagne' fro
 m a Spanish manuscript of about 1731.\n     Meet the Eric and Chris
  at afternoon tea following the program.Eric Haas studied recorder wit
 h John Tyson and baroque flute with Sandra Miller. He has taught at Ne
 w England Conservatory, Tufts University and Wheaton College, as well 
 as numerous early music workshops, including Pinewoods, Amherst Early 
 Music, the Long Island Recorder Festival and the Mideast Workshop. Mr.
  Haas has performed on both recorder and early flutes with Emmanuel Mu
 sic, the Ocean State Chamber Orchestra, La Sonnerie and now Pentimento
 . He served for many years as Music Director of the Boston Recorder So
 ciety and is on the staff of the von Huene Workshop, Inc.Olav Chris He
 nriksen, acclaimed throughout Europe and North America as a soloist on
  lute, theorbo and early guitars, is also a much sought-after ensemble
  player, performing & recording with the Boston Camerata, Handel and H
 aydn Society, Waverly Consort, Boston Baroque, Four Nations Ensemble, 
 Les Idées Heureuses, and Chanticleer, among others. Mr. Henriksen’s
  solo recording, La Guitarre Royalle: French Baroque and Classical Gui
 tar Music, on the Museum Music label, was released in October 2000; he
  has also recorded for Centaur, Nonesuch, Erato, Simax, Telarc and Dec
 ca. He performs frequently at the Music of Fine Arts, Boston, in recit
 als and lecture-demonstrations from the Museum’s own collection. He 
 has lectured at Harvard University, Cambridge; Nelson Atkins Museum, K
 ansas City, Musikkhögskolen, Oslo; Aston Magna Academy, Rutgers Unive
 rsity; and Lincoln Center Institute, New York. He teaches at the Bosto
 n Conservatory and the University of Southern Maine. The Sunday Aftern
 oon at the ‘Greenough House series recreates the atmosphere of 18th 
 and 19th century “musical afternoons” in the 1760 Loring-Greenough
  House. Tickets are available at the door: donation $15 ($10 seniors, 
 students and JPTC members). Space is limited; reservations are suggest
 ed—call 617-524-3158 or email lghouseconcerts@aim.com.\n\nFor more i
 nformation visit http://neighborsforneighbors.org/events/pentimento-pr
 esents-canciones-danzas-y-diferencias-spanish-songs
DTSTART:20120401T190000Z
DTEND:20120401T213000Z
CATEGORIES:parlor, concert, and, tea
LOCATION:Loring-Greenough House,
WEBSITE:http://www.Loring-Greenough.org
URL:http://www.Loring-Greenough.org
CONTACT:617-524-3158
ORGANIZER;CN="Loring-Greenough House Concerts":http://neighborsforneig
 hbors.org/profile/LoringGreenoughHouseConserts
ATTACH;FMTTYPE="image/jpeg":http://storage.ning.com/topology/rest/1.0/
 file/get/2245131797?profile=original
ATTENDEE;ROLE=REQ-PARTICIPANT;PARTSTAT=ACCEPTED;RSVP=TRUE;CN="Loring-G
 reenough House Concerts":http://neighborsforneighbors.org/profile/Lori
 ngGreenoughHouseConserts
END:VEVENT
END:VCALENDAR
