BEGIN:VCALENDAR
PRODID:NingEventWidget-v1
VERSION:2.0
METHOD:PUBLISH
BEGIN:VEVENT
UID:1171189:Event:93271
DTSTAMP:20260421T203946Z
SUMMARY:Philosophy, Theology, & Beer
DESCRIPTION:A regular gathering to meet new people, discuss our perspe
 ctives on various topics, and try new beer. Must be 21 to attend.\n\nF
 or more information visit http://neighborsforneighbors.org/events/phil
 osophy-theology-beer
DTSTART:20130215T010000Z
DTEND:20130215T030000Z
CATEGORIES:hang, out
LOCATION:Varies - contact host for address
WEBSITE:
URL:
CONTACT:617 506 9345
ORGANIZER;CN="Logan Keck":http://neighborsforneighbors.org/profile/Log
 anKeck
ATTACH;FMTTYPE="image/jpeg":http://storage.ning.com/topology/rest/1.0/
 file/get/2245141840?profile=original
ATTENDEE;ROLE=REQ-PARTICIPANT;PARTSTAT=ACCEPTED;RSVP=TRUE;CN="Logan Ke
 ck":http://neighborsforneighbors.org/profile/LoganKeck
END:VEVENT
END:VCALENDAR
