BEGIN:VCALENDAR
PRODID:NingEventWidget-v1
VERSION:2.0
METHOD:PUBLISH
BEGIN:VEVENT
UID:1171189:Event:60282
DTSTAMP:20260422T004211Z
SUMMARY:Pianist Leslie Hitelman at Loring-Greenough House
DESCRIPTION:On Sunday, January 9, 2011, at 3:00 pm. at the historic Lo
 ring-Greenough House, 12 South Street, Jamaica Plain, Pianist Leslie H
 itelman, will play a varied program on the Loring-Grenough 1790 Longma
 n and Brodirp forte piano,  including works of Bach, Mozart and Schub
 ert along with her own compositions and arrangements.\nAfternoon tea f
 ollows the program.\nTickets are available at the door: donation $15 (
 $10 seniors, students and JPTC members). Space is limited; reservation
 s are suggested—call 617-524-3158 or email lghouseconcerts@aim.com\n
  \n\nFor more information visit http://neighborsforneighbors.org/even
 ts/pianist-leslie-hitelman-at
DTSTART:20110109T200000Z
DTEND:20110109T220000Z
CATEGORIES:parlor, concert, and, tea
LOCATION:Loring-Greenough House, 12 South St, Jamaica Plain
WEBSITE:http://www.Loring-Greenough.org
URL:http://www.Loring-Greenough.org
CONTACT:617-524-3158
ORGANIZER:Loring-Greenough House Concerts
ATTACH;FMTTYPE="image/jpeg":http://storage.ning.com/topology/rest/1.0/
 file/get/2245131569?profile=original
ATTENDEE;ROLE=REQ-PARTICIPANT;PARTSTAT=ACCEPTED;RSVP=TRUE;CN="Loring-G
 reenough House Concerts":http://neighborsforneighbors.org/profile/Lori
 ngGreenoughHouseConserts
END:VEVENT
END:VCALENDAR
