BEGIN:VCALENDAR
PRODID:NingEventWidget-v1
VERSION:2.0
METHOD:PUBLISH
BEGIN:VEVENT
UID:1171189:Event:82508
DTSTAMP:20260421T234319Z
SUMMARY:PIONEER CONSORT: World Chamber Music
DESCRIPTION:The PIONEER CONSORT  performs composed and improvised cha
 mber music for Violin, Cello, Guitar, Mandolin, and the Banjar--a seve
 n string classical banjo on Sunday, November 6, 2011, at 3:00 p.m. at 
 the historic Loring-Greenough House, 12 South Street, Jamaica Plain.Af
 ternoon tea follows the programDdonation $15 ($10 seniors, students an
 d JPTC members). Reservations are suggested—call 617-524-3158 or ema
 il lghouseconcerts@aim.com\n\nFor more information visit http://neighb
 orsforneighbors.org/events/pioneer-consort-world-chamber-music
DTSTART:20111106T200000Z
DTEND:20111107T000000Z
CATEGORIES:parlor, concert, and, tea
LOCATION:Loring-Greenough House,
WEBSITE:http://www.Loring-Greenough.org
URL:http://www.Loring-Greenough.org
CONTACT:617-524-3158
ORGANIZER;CN="Loring-Greenough House Concerts":http://neighborsforneig
 hbors.org/profile/LoringGreenoughHouseConserts
ATTACH;FMTTYPE="image/jpeg":http://storage.ning.com/topology/rest/1.0/
 file/get/2245135981?profile=original
ATTENDEE;ROLE=REQ-PARTICIPANT;PARTSTAT=ACCEPTED;RSVP=TRUE;CN="Loring-G
 reenough House Concerts":http://neighborsforneighbors.org/profile/Lori
 ngGreenoughHouseConserts
END:VEVENT
END:VCALENDAR
