BEGIN:VCALENDAR
PRODID:NingEventWidget-v1
VERSION:2.0
METHOD:PUBLISH
BEGIN:VEVENT
UID:1171189:Event:36476
DTSTAMP:20260421T200035Z
SUMMARY:Playing with Paper: Art Workshop for Kids
DESCRIPTION:Come explore the world of collage and multi-media in this 
 workshop led by Anita Barnes. Participants will learn different method
 s for making collages and making paper three-dimensional. For ages 5 a
 nd up. Please register.\n\nFor more information visit http://neighbors
 forneighbors.org/events/playing-with-paper-art
DTSTART:20100315T223000Z
DTEND:20100315T233000Z
CATEGORIES:art, kids
LOCATION:Connolly Branch Library
WEBSITE:http://www.bpl.org/branches/connolly.htm
URL:http://www.bpl.org/branches/connolly.htm
CONTACT:617-522-1960
ORGANIZER;CN="Connolly Branch Library":http://neighborsforneighbors.or
 g/profile/ConnollyBranchLibrary
ATTACH;FMTTYPE="image/jpeg":http://storage.ning.com/topology/rest/1.0/
 file/get/2186464672?profile=original
ATTENDEE;ROLE=REQ-PARTICIPANT;PARTSTAT=ACCEPTED;RSVP=TRUE;CN="Connolly
  Branch Library":http://neighborsforneighbors.org/profile/ConnollyBran
 chLibrary
END:VEVENT
END:VCALENDAR
