BEGIN:VCALENDAR
PRODID:NingEventWidget-v1
VERSION:2.0
METHOD:PUBLISH
BEGIN:VEVENT
UID:1171189:Event:68961
DTSTAMP:20260421T180451Z
SUMMARY:Playworks 2nd Annual 5K Run for Recess!
DESCRIPTION:﻿Come run (or walk) to support a JP-based non-profit, an
 d join us in providing 10,000 kids in 27 low-income schools across Bos
 ton, Cambridge and Revere daily opportunities for safe, meaningful pla
 y! Our 5K and 1 mile fun run in Franklin Park are a fun and inclusive 
 way for runners of all ages and abilities to get some exercise and sup
 port a great cause! WARNING, you can expect a lot of random people che
 ering you on and giving you HIGH 5’s!\n\nFor more information visit 
 http://neighborsforneighbors.org/events/playworks-2nd-annual-5k-run
DTSTART:20110514T140000Z
DTEND:20110514T160000Z
CATEGORIES:5k, run, and, fundraiser
LOCATION:Franklin Park (Giraffe Entrance to the Zoo )
WEBSITE:http://www.playworks.org/make-recess-count/play/boston/2nd-ann
 ual-run-recess-5k-and-1-mile-fun-run
URL:http://www.playworks.org/make-recess-count/play/boston/2nd-annual-
 run-recess-5k-and-1-mile-fun-run
CONTACT:617-522-3600
ORGANIZER;CN=Kim:http://neighborsforneighbors.org/profile/Kim505
ATTACH;FMTTYPE="image/jpeg":http://storage.ning.com/topology/rest/1.0/
 file/get/2202593430?profile=original
ATTENDEE;ROLE=REQ-PARTICIPANT;PARTSTAT=ACCEPTED;RSVP=TRUE;CN=Kim:http:
 //neighborsforneighbors.org/profile/Kim505
END:VEVENT
END:VCALENDAR
