BEGIN:VCALENDAR
PRODID:NingEventWidget-v1
VERSION:2.0
METHOD:PUBLISH
BEGIN:VEVENT
UID:1171189:Event:60661
DTSTAMP:20260421T185812Z
SUMMARY:PMAC Mtg--Wed 1/5
DESCRIPTION:\nPARKLAND MANAGEMENT ADVISORY COMMITTEE\nSOUTH END/ST. BO
 TOLPH\nPUBLIC SAFETY & STEERING COMMITTEE MEETINGS\n70 St. Botolph St\
 nÂ WEDNESDAY 5 JANUARY 2011\nAll PMAC Meetings are Open to the PublicÂ
  \nÂ \nPublic Safety Committee:Â Â 7:00 PM to 7:45 PM\nSign in & Intro
 ductions\nPrecinct Reports â€“ State, MBTA, E-13, D-4, B-2\nÂ \nSteeri
 ng Committee:Â Â 7:45 PM to 8:30 PM\nSign in & Introductions\nPark Man
 agerâ€™s report â€“ Holly Richardson\nUpdate on marking light poles fo
 r security identification\nSWC Conservancy Update\nPublic Concerns & C
 omments\nNext meeting: Wednesday 2 February 2011 in Jamaica Plain, 7:0
 0 PM\nQuestions or comments?Â Â Please contactÂ Janet Hunkel, atÂ jhun
 kel@aol.com\n\n\nFor more information visit http://neighborsforneighbo
 rs.org/events/pmac-mtgwed-15
DTSTART:20110106T000000Z
DTEND:20110106T014500Z
CATEGORIES:community, meeting
LOCATION:70 St. Botolph St--Elderly Housing
WEBSITE:
URL:
CONTACT:
ORGANIZER;CN="Janet Hunkel":http://neighborsforneighbors.org/profile/J
 anetHunkel
ATTACH;FMTTYPE="image/jpeg":
ATTENDEE;ROLE=REQ-PARTICIPANT;PARTSTAT=ACCEPTED;RSVP=TRUE;CN="Janet Hu
 nkel":http://neighborsforneighbors.org/profile/JanetHunkel
END:VEVENT
END:VCALENDAR
