BEGIN:VCALENDAR
PRODID:NingEventWidget-v1
VERSION:2.0
METHOD:PUBLISH
BEGIN:VEVENT
UID:1171189:Event:64438
DTSTAMP:20260421T202028Z
SUMMARY:PMAC Mtg--Wed 2/2
DESCRIPTION:PMAC meeting has been rescheduled to next Wed. 2/9.\nSame 
 place: JP police station\nSame time: 7:00 PM\nSame agenda\nAny questio
 ns, contact Janet Hunkel at 617-723-8471\n\nFor more information visit
  http://neighborsforneighbors.org/events/pmac-mtgwed-22-1
DTSTART:20110201T230000Z
DTEND:20110202T000000Z
CATEGORIES:meeting
LOCATION:JP Police Station
WEBSITE:
URL:
CONTACT:
ORGANIZER;CN="Janet Hunkel":http://neighborsforneighbors.org/profile/J
 anetHunkel
ATTACH;FMTTYPE="image/jpeg":
ATTENDEE;ROLE=REQ-PARTICIPANT;PARTSTAT=ACCEPTED;RSVP=TRUE;CN="Janet Hu
 nkel":http://neighborsforneighbors.org/profile/JanetHunkel
END:VEVENT
END:VCALENDAR
