BEGIN:VCALENDAR
PRODID:NingEventWidget-v1
VERSION:2.0
METHOD:PUBLISH
BEGIN:VEVENT
UID:1171189:Event:64366
DTSTAMP:20260421T185813Z
SUMMARY:PMAC Mtg--Wed 2/2
DESCRIPTION:The Parkland Management Advisory Committee (PMAC) meets:\n
 Wednesday, 2 February at\nBOSTON POLICE STATION\n3347 WASHINGTON ST. 
 All PMAC Meetings are Open to the PublicPublic Safety Committee: 7:00 
 PM to 7:45 PMSign in & IntroductionsPrecinct Reports – State, MBTA, 
 E-13, D-4, B-2Update on marking light poles for security identificatio
 n\nSteering Committee: 7:45 PM to 8:30 PMSign in & IntroductionsPark M
 anager’s report – Holly RichardsonSWC Conservancy updateLegislativ
 e update re state budgetOpen discussion on programming ideas for the s
 ummerPublic Concerns & Comments\n\nFor more information visit http://n
 eighborsforneighbors.org/events/pmac-mtgwed-22
DTSTART:20110203T000000Z
DTEND:20110203T014500Z
CATEGORIES:meeting
LOCATION:Boston Police Station on Washington St
WEBSITE:
URL:
CONTACT:617-723-8471
ORGANIZER;CN="Janet Hunkel":http://neighborsforneighbors.org/profile/J
 anetHunkel
ATTACH;FMTTYPE="image/jpeg":
ATTENDEE;ROLE=REQ-PARTICIPANT;PARTSTAT=ACCEPTED;RSVP=TRUE;CN="Janet Hu
 nkel":http://neighborsforneighbors.org/profile/JanetHunkel
END:VEVENT
END:VCALENDAR
