BEGIN:VCALENDAR
PRODID:NingEventWidget-v1
VERSION:2.0
METHOD:PUBLISH
BEGIN:VEVENT
UID:1171189:Event:64441
DTSTAMP:20260421T185626Z
SUMMARY:PMAC Rescheduled: 2/9
DESCRIPTION:Public Safety Committee:Â Â 7:00 PM to 7:45 PMÂ \nSign in 
 & Introductions\nPrecinct Reports â€“ State, MBTA, E-13, D-4, B-2\nUpd
 ate on marking light poles for security identification\nÂ \nSteering C
 ommittee:Â Â 7:45 PM to 8:30 PM\nSign in & Introductions\nPark Manager
 â€™s report â€“ Holly Richardson\nSWC Conservancy update\nLegislative 
 update re state budget\nOpen discussion on programming ideas for the s
 ummer\nPublic Concerns & Comments\nÂ \nNext meeting: Wednesday 2 March
  2011Â \nÂ Â  Â  Â  Â  Â  Â  Â  Â  Â  Â  Â  Roxbury, BPD HQ\nÂ Â  Â  Â
   Â  Â  Â  Â  Â  Â  Â  Â  7:00 PM\nQuestions or comments?Â Â Please co
 ntact Janet Hunkel, atÂ jhunkel@aol.com\nÂ \n\n\nFor more information 
 visit http://neighborsforneighbors.org/events/pmac-rescheduled-29
DTSTART:20110210T000000Z
DTEND:20110210T014500Z
CATEGORIES:meeting
LOCATION:JP Police Station
WEBSITE:
URL:
CONTACT:
ORGANIZER;CN="Janet Hunkel":http://neighborsforneighbors.org/profile/J
 anetHunkel
ATTACH;FMTTYPE="image/jpeg":
ATTENDEE;ROLE=REQ-PARTICIPANT;PARTSTAT=ACCEPTED;RSVP=TRUE;CN="Ferris W
 heels Bike Shop":http://neighborsforneighbors.org/profile/FerrisWheels
 BikeShop
ATTENDEE;ROLE=REQ-PARTICIPANT;PARTSTAT=ACCEPTED;RSVP=TRUE;CN="Janet Hu
 nkel":http://neighborsforneighbors.org/profile/JanetHunkel
END:VEVENT
END:VCALENDAR
