BEGIN:VCALENDAR
PRODID:NingEventWidget-v1
VERSION:2.0
METHOD:PUBLISH
BEGIN:VEVENT
UID:1171189:Event:92747
DTSTAMP:20260421T164156Z
SUMMARY:Police/Community Meeting
DESCRIPTION:Police/Community Meeting\n \nCome and join us at our Poli
 ce/Community Monthly Meeting.\n \nGuest Speaker:  Mr. Ralph Poland f
 rom SafetyNet by LoJack\n \nSafetyNet:  Proven technology to find an
 d rescue individuals with cognitive disorders (including autism, Alzhe
 imer’s and other conditions) who tend to wander and become lost.\n 
 \nReceive up to date information about crime statistics, traffic viola
 tions, joint City agencies operations, drug enforcement, the Strategic
  Planning committee, the Community Services Office, Neighborhood Crime
  Watch organizations, and Police-Community Partnerships.\n\nFor more i
 nformation visit http://neighborsforneighbors.org/events/police-commun
 ity-meeting
DTSTART:20121207T000000Z
DTEND:20121207T010000Z
CATEGORIES:public, meeting
LOCATION:Farnsworth House
WEBSITE:
URL:
CONTACT:617-343-5624
ORGANIZER;CN="Sgt. Eric Krause":http://neighborsforneighbors.org/profi
 le/SgtEricKrause
ATTACH;FMTTYPE="image/jpeg":
ATTENDEE;ROLE=REQ-PARTICIPANT;PARTSTAT=ACCEPTED;RSVP=TRUE;CN="Sgt. Eri
 c Krause":http://neighborsforneighbors.org/profile/SgtEricKrause
END:VEVENT
END:VCALENDAR
