BEGIN:VCALENDAR
PRODID:NingEventWidget-v1
VERSION:2.0
METHOD:PUBLISH
BEGIN:VEVENT
UID:1171189:Event:88340
DTSTAMP:20260421T164311Z
SUMMARY:Police/Community Monthly Meeting
DESCRIPTION:Review Part 1 crime for the month of January.  Discuss cr
 ime patterns throughout JP/Egleston Sq.\n \nThis meeting is open to a
 ll residents.  If you have any issues you would like to discuss with 
 the police please come.\n \nPresented by Area E-13 Community Service 
 Office\n\nFor more information visit http://neighborsforneighbors.org/
 events/police-community-monthly-meeting
DTSTART:20120203T000000Z
DTEND:20120203T010000Z
CATEGORIES:public, meeting
LOCATION:Area E-13
WEBSITE:
URL:
CONTACT:617-343-5624
ORGANIZER;CN="Sgt. Eric Krause":http://neighborsforneighbors.org/profi
 le/SgtEricKrause
ATTACH;FMTTYPE="image/jpeg":http://storage.ning.com/topology/rest/1.0/
 file/get/2245137576?profile=original
ATTENDEE;ROLE=REQ-PARTICIPANT;PARTSTAT=ACCEPTED;RSVP=TRUE;CN="Sgt. Eri
 c Krause":http://neighborsforneighbors.org/profile/SgtEricKrause
END:VEVENT
END:VCALENDAR
