BEGIN:VCALENDAR
PRODID:NingEventWidget-v1
VERSION:2.0
METHOD:PUBLISH
BEGIN:VEVENT
UID:1171189:Event:34523
DTSTAMP:20260421T182317Z
SUMMARY:Police/Community Monthly Meeting
DESCRIPTION:Police/Community Monthly Meeting. Reviewing the month of J
 anuary of 2010.\n\nCoffee & Pastries\n\nFor more information visit htt
 p://neighborsforneighbors.org/events/policecommunity-monthly-4
DTSTART:20100205T000000Z
DTEND:20100205T010000Z
CATEGORIES:public, meeting
LOCATION:Curtis Hall
WEBSITE:http://www.e13bpd.com
URL:http://www.e13bpd.com
CONTACT:617-343-5624
ORGANIZER;CN="Sgt. Eric Krause":http://neighborsforneighbors.org/profi
 le/SgtEricKrause
ATTACH;FMTTYPE="image/jpeg":http://storage.ning.com/topology/rest/1.0/
 file/get/2186463314?profile=original
ATTENDEE;ROLE=REQ-PARTICIPANT;PARTSTAT=ACCEPTED;RSVP=TRUE;CN="Sgt. Eri
 c Krause":http://neighborsforneighbors.org/profile/SgtEricKrause
END:VEVENT
END:VCALENDAR
