BEGIN:VCALENDAR
PRODID:NingEventWidget-v1
VERSION:2.0
METHOD:PUBLISH
BEGIN:VEVENT
UID:1171189:Event:36569
DTSTAMP:20260421T182317Z
SUMMARY:Police/Community Monthly Meeting
DESCRIPTION:Guest Speaker: Sheila Smith to discuss www.crimereports.co
 m\n\nCome join us at Area E-13 to discuss last months crime and the we
 bsite crimereports.com.\n\nPastries and refreshments will be served.\n
 \nFor more information visit http://neighborsforneighbors.org/events/p
 olicecommunity-monthly-5
DTSTART:20100305T000000Z
DTEND:20100305T010000Z
CATEGORIES:public, meeting
LOCATION:Boston Police, Area E-13
WEBSITE:http://www.e13bpd.com
URL:http://www.e13bpd.com
CONTACT:617-343-5624
ORGANIZER;CN="Sgt. Eric Krause":http://neighborsforneighbors.org/profi
 le/SgtEricKrause
ATTACH;FMTTYPE="image/jpeg":
ATTENDEE;ROLE=REQ-PARTICIPANT;PARTSTAT=ACCEPTED;RSVP=TRUE;CN="Sgt. Eri
 c Krause":http://neighborsforneighbors.org/profile/SgtEricKrause
END:VEVENT
END:VCALENDAR
