BEGIN:VCALENDAR
PRODID:NingEventWidget-v1
VERSION:2.0
METHOD:PUBLISH
BEGIN:VEVENT
UID:1171189:Event:27024
DTSTAMP:20260421T133137Z
SUMMARY:Police/Community Montly Meeting
DESCRIPTION:This is an open meeting to discuss crime in JP & Egleston 
 Square for the month of July. All are welcome. Curtis Hall at 7pm.\n\n
 For more information visit http://neighborsforneighbors.org/events/pol
 icecommunity-montly-meeting
DTSTART:20090806T230000Z
DTEND:20090807T000000Z
CATEGORIES:public, meeting
LOCATION:Curtis Hall
WEBSITE:
URL:
CONTACT:617-343-5624
ORGANIZER:Sgt. Eric Krause, P.O. Stephanie Curtis
ATTACH;FMTTYPE="image/jpeg":http://storage.ning.com/topology/rest/1.0/
 file/get/2186463314?profile=original
ATTENDEE;ROLE=REQ-PARTICIPANT;PARTSTAT=ACCEPTED;RSVP=TRUE;CN="Sgt. Eri
 c Krause":http://neighborsforneighbors.org/profile/SgtEricKrause
END:VEVENT
END:VCALENDAR
