BEGIN:VCALENDAR
PRODID:NingEventWidget-v1
VERSION:2.0
METHOD:PUBLISH
BEGIN:VEVENT
UID:1171189:Event:80652
DTSTAMP:20260421T195352Z
SUMMARY:PORCH SALE!
DESCRIPTION:75 Paul Gore Street Porch\nSALE!!\nSATURDAY Sept.3   9:0
 0am-12noon\nGorgeous Clothes, Furniture, Mid Century, Collectibles, Co
 ol Oddities, Skis, Housewares, FUN!!\n \n\nFor more information visit
  http://neighborsforneighbors.org/events/porch-sale
DTSTART:20110903T130000Z
DTEND:20110903T170000Z
CATEGORIES:yard, "sale!"
LOCATION:Jamaica Plain
WEBSITE:
URL:
CONTACT:
ORGANIZER;CN="Sarah Moreno":http://neighborsforneighbors.org/profile/S
 arah
ATTACH;FMTTYPE="image/jpeg":
ATTENDEE;ROLE=REQ-PARTICIPANT;PARTSTAT=ACCEPTED;RSVP=TRUE;CN="Sarah Mo
 reno":http://neighborsforneighbors.org/profile/Sarah
END:VEVENT
END:VCALENDAR
