BEGIN:VCALENDAR
PRODID:NingEventWidget-v1
VERSION:2.0
METHOD:PUBLISH
BEGIN:VEVENT
UID:1171189:Event:87963
DTSTAMP:20260421T203947Z
SUMMARY:Portraits in Miniature
DESCRIPTION:Trium, literally \"of three,\" is a trio of superb soprano
 s who have dedicated themselves to the exploration and performance of 
 music of three equal voices. On January 22, 2012, they will present Po
 rtraits in Miniature.  In the tradition of the Renaissance miniature 
 portrait, a tiny detailed devotion to a beloved subject, Trium will ex
 plore, luxuriate and celebrate bite-size portions of a variety of peri
 ods and styles, from the Notre Dame school in medieval Paris to the si
 xteenth century Flemish motet, to the English Madrigal style, with a s
 oupcon of turn of the century and contemporary.  The concert will tak
 e place at the historic Loring-Greenough House, 12 South Street, Jamai
 ca Plain MA, as part of the Sunday Afternoon at the ‘Greenough House
  parlor concert series.Meet the singers of Trium at afternoon tea foll
 owing the program.Trium was founded in 1997 to perform a benefit conce
 rt at Emmanuel Church in Boston, but Shannon Larkin, Margaret Johnson,
  and Susan Trout are well known individually for their work with Hande
 l & Haydn Society, Boston Baroque, and Emmanuel Music. Each of the voi
 ces has a distinctly unique quality, and when they come together they 
 make a gloriously blended sound that is even greater than the sum of i
 ts parts. Margaret's pure sweet tone and stratospheric range surround 
 each piece with a halo of brilliance. Shannon's clarion soprano weaves
  in with a shimmer and dips down into mezzo warmth. Susan's brilliantl
 y radiant and richly warm tone adds depth and beauty before carrying i
 ts strength to the top of the staff. Whether they are singing a finely
  tuned dissonant chord in a Renaissance motet or an exquisitely blende
 d unison in a contemporary art song, Trium makes music \"of three\" so
 und like so much more. \nThe Sunday Afternoon at the ‘Greenough Hou
 se series recreates the atmosphere of 18th and 19th century “musical
  afternoons” in the 1760 Loring-Greenough House, twice monthly, Octo
 ber to May. Tickets are available at the door: donation $15 ($10 senio
 rs, students and JPTC members). Space is limited; reservations are sug
 gested—call 617-524-3158 or email lghouseconcerts@aim.com.\n\nFor mo
 re information visit http://neighborsforneighbors.org/events/portraits
 -in-miniature
DTSTART:20120122T200000Z
DTEND:20120122T223000Z
CATEGORIES:parlor, concert, and, tea
LOCATION:Loring-Greenough House,
WEBSITE:http://www.Loring-Greenough.org
URL:http://www.Loring-Greenough.org
CONTACT:617-524-3158
ORGANIZER;CN="Loring-Greenough House Concerts":http://neighborsforneig
 hbors.org/profile/LoringGreenoughHouseConserts
ATTACH;FMTTYPE="image/jpeg":http://storage.ning.com/topology/rest/1.0/
 file/get/2245137181?profile=original
ATTENDEE;ROLE=REQ-PARTICIPANT;PARTSTAT=ACCEPTED;RSVP=TRUE;CN="Loring-G
 reenough House Concerts":http://neighborsforneighbors.org/profile/Lori
 ngGreenoughHouseConserts
END:VEVENT
END:VCALENDAR
