BEGIN:VCALENDAR
PRODID:NingEventWidget-v1
VERSION:2.0
METHOD:PUBLISH
BEGIN:VEVENT
UID:1171189:Event:67724
DTSTAMP:20260421T203948Z
SUMMARY:Potluck & T-Shirt Swap for Justice
DESCRIPTION:Looking for an excuse to clean out your t-shirt drawer(s)?
  Want to show off your best potluck dish? This is the event for you!Jo
 in Socializing for Justice at Potluck & T-Shirt Swap for Justice! Happ
 ening Thursday, April 14th from 6-8pm, @ The Democracy Center, 45 Mt. 
 Auburn St., Cambridge.RSVP at http://www.sojust.org - Newcomers always
  welcomed!Fee: $2 cash at the door.T-SHIRT SWAPBring 3 or more lightly
  used t-shirts. Leave with the same number! All sizes welcomed - remem
 ber this is a group of like-minded progressives, so bring interesting 
 radical t-shirts and not just your “Walk” shirts.Children welcomed
 ! We'll set up a separate table for childrens' t-shirts. Please indica
 te in your RSVP that you plan to bring childrens' t-shirts.POTLUCKVega
 n, vegetarian and carnist dishes welcomed. Please list all ingredients
  on a card so SoJusters with allergy/dietary concerns can safely enjoy
  themselves. There is a kitchen with a microwave - there is no oven/st
 ove. Be creative! We love variety and don't mean a variety of chips & 
 salsa. Beverages welcomed.SCHEDULE6:00-7:00pm Browse t-shirts and eat!
 7:00-8:00pm T-shirt swapPARKING - if you're driving you may need to ci
 rcle quit a bit to find a parking spot or park in a garage (The one by
  Harvard Kennedy School is the least expensive).Hey organizers! If you
 're involved with a group or project and want to spread the word bring
  flyers.YES, WE MEAN YOU. We've got members of all ages, races, gender
 s, sexual orientations, levels of activism and professions. We hope yo
 u see someone like yourself and meet someone you otherwise wouldn't ha
 ve._________________________________________________________Socializin
 g for Justice - http://sojust.orgSince 2006, we've been building this 
 great sandbox where we can bring progressives of all stripes together 
 and try out new ideas in this \"Movement Moment\". Spaces like this ar
 e crucial as we start to reframe and build new visions for our movemen
 t(s).With almost 1700 members and 4 1/2 years of creating a diverse cr
 oss-issue community in Boston (90+ events!), Socializing for Justice i
 s the best place to find the great people, organizations and community
  you're looking for while putting the SOCIAL back in social justice.Wa
 nna know more about SoJust? Check out our Frequently Asked Questions a
 nd past event photos on http://sojust.org.Follow us on Twitter: http:/
 /twitter.com/sojust and http://twitter.com/Robbiesamuels.\n\nFor more 
 information visit http://neighborsforneighbors.org/events/potluck-tshi
 rt-swap-for
DTSTART:20110414T220000Z
DTEND:20110415T000000Z
CATEGORIES:potluck, clothing, swap, social, progressive
LOCATION:The Democracy Center
WEBSITE:
URL:
CONTACT:
ORGANIZER;CN="Socializing for Justice":http://neighborsforneighbors.or
 g/profile/SocializingforJustice71
ATTACH;FMTTYPE="image/jpeg":http://storage.ning.com/topology/rest/1.0/
 file/get/2245131965?profile=original
ATTENDEE;ROLE=REQ-PARTICIPANT;PARTSTAT=ACCEPTED;RSVP=TRUE;CN="Socializ
 ing for Justice":http://neighborsforneighbors.org/profile/Socializingf
 orJustice71
END:VEVENT
END:VCALENDAR
