BEGIN:VCALENDAR
PRODID:NingEventWidget-v1
VERSION:2.0
METHOD:PUBLISH
BEGIN:VEVENT
UID:1171189:Event:73654
DTSTAMP:20260421T165336Z
SUMMARY:Practical Nursing
DESCRIPTION:Join us on June 2nd from 6-9pm for the opening reception t
 o Practical Nursing, a solo exhibition featuring Karin Stothart.\n“
 My prints explore the aesthetics of vulnerability and fear though the 
 transformation of diagrams from medical textbooks and first aid manual
 s. Framing the figure in a medical context allows me to distinguish th
 e physical body from the individual, enabling me to explore emotions i
 n a two-dimensional framework. Through the use of medical diagrams I p
 resent the body as an object, illustrating the loss of physical contro
 l that a patient experiences in a medical setting. The sexual tone of 
 the images that the material and intimate environment evoke contrasts 
 the sterility of the clinical imagery. This contrast emphasizes the pe
 rceived disparity between surgery and sexual intimacy, addressing the 
 true nature of emotional vulnerability and physical intimacy.”\n \n
 -K. Stothart\n\nFor more information visit http://neighborsforneighbor
 s.org/events/practical-nursing
DTSTART:20110602T220000Z
DTEND:20110603T010000Z
CATEGORIES:opening, reception
LOCATION:the hallway gallery
WEBSITE:http://www.thehallwayjp.com
URL:http://www.thehallwayjp.com
CONTACT:617-818-5996
ORGANIZER;CN="Brent Refsland":http://neighborsforneighbors.org/profile
 /BrentRefsland
ATTACH;FMTTYPE="image/jpeg":http://storage.ning.com/topology/rest/1.0/
 file/get/2245132867?profile=original
ATTENDEE;ROLE=REQ-PARTICIPANT;PARTSTAT=ACCEPTED;RSVP=TRUE;CN="Brent Re
 fsland":http://neighborsforneighbors.org/profile/BrentRefsland
END:VEVENT
END:VCALENDAR
