BEGIN:VCALENDAR
PRODID:NingEventWidget-v1
VERSION:2.0
METHOD:PUBLISH
BEGIN:VEVENT
UID:1171189:Event:102365
DTSTAMP:20260421T220759Z
SUMMARY:Preparedness Pie Party Potluck
DESCRIPTION:Over the last year, Boston has contended with the effects 
 of Hurricane Sandy, Blizzard Nemo and the Marathon bombing and subsequ
 ent lockdown. This fall, climate experts are predicting a big storm se
 ason, with 3-6 major hurricanes. It's time to get prepared!To help you
  prepare, NeighborsForNeighbors is partnering with the Jamaica Plain F
 orum and the Jamaica Plain New Economy Transition to promote the forma
 tion of small neighborhood “Preparedness Pie Parties.” The purpose
  of the pie parties is to help you get to know your neighbors and put 
 in place some very basic measures to strengthen our neighborhood respo
 nse.  \nHere is how you can get involved:1) Attend the Jamaica Plai
 n Forum & JP New Economy Transition Potluck to Learn about Preparednes
 s Pie Parties: \n\nWHO: Everyone\nWHEN: Tuesday, August 20th, 6:30pm
 \nWHERE: The Nate Smith House, 155 Lamartine St., Jamaica Plain, MA\n
 RSVP: Appreciated via Facebook or info@jamaicaplainforum.org\n\n2) 
 Join the Preparedness Pie Party Organizer's group on NeighborsForN
 eighbors.org to help coordinate an event with your neighbors!\n\nFor m
 ore information visit http://neighborsforneighbors.org/events/prepared
 ness-pie-party-potluck
DTSTART:20130820T220000Z
DTEND:20130821T000000Z
CATEGORIES:potluck, community, meeting
LOCATION:The Nate Smith House
WEBSITE:http://jptransition.org
URL:http://jptransition.org
CONTACT:
ORGANIZER:Sam Wechsler
ATTACH;FMTTYPE="image/jpeg":http://storage.ning.com/topology/rest/1.0/
 file/get/2245141014?profile=original
ATTENDEE;ROLE=REQ-PARTICIPANT;PARTSTAT=ACCEPTED;RSVP=TRUE;CN="Joseph P
 orcelli (Chief Neighbor)":http://neighborsforneighbors.org/profile/jos
 ephporcelli
END:VEVENT
END:VCALENDAR
