BEGIN:VCALENDAR
PRODID:NingEventWidget-v1
VERSION:2.0
METHOD:PUBLISH
BEGIN:VEVENT
UID:1171189:Event:84580
DTSTAMP:20260421T172057Z
SUMMARY:Prescription Drug Take Back
DESCRIPTION:NATIONAL TAKE BACK INITIATIVE\nOctober 29, 201110:00 AM - 
 2:00 PM\n \nBoston Police Department\nArea E-13\n3347 Washington St\n
  \n\nFor more information visit http://neighborsforneighbors.org/even
 ts/prescription-drug-take-back
DTSTART:20111029T140000Z
DTEND:20111029T180000Z
CATEGORIES:prescription, take, back
LOCATION:Area E-13
WEBSITE:http://www.dea.gov
URL:http://www.dea.gov
CONTACT:617-343-5630
ORGANIZER:BPD, DEA
ATTACH;FMTTYPE="image/jpeg":http://storage.ning.com/topology/rest/1.0/
 file/get/2245136885?profile=original
ATTENDEE;ROLE=REQ-PARTICIPANT;PARTSTAT=ACCEPTED;RSVP=TRUE;CN="Sgt. Eri
 c Krause":http://neighborsforneighbors.org/profile/SgtEricKrause
END:VEVENT
END:VCALENDAR
