BEGIN:VCALENDAR
PRODID:NingEventWidget-v1
VERSION:2.0
METHOD:PUBLISH
BEGIN:VEVENT
UID:1171189:Event:45703
DTSTAMP:20260421T195852Z
SUMMARY:Prescription Take Back
DESCRIPTION:MedCabinet_JP_Roxbury_8x11.pdf\n\nFor more information vis
 it http://neighborsforneighbors.org/events/prescription-take-back
DTSTART:20100612T140000Z
DTEND:20100612T180000Z
CATEGORIES:safe, drop, off, of, unused, "medications."
LOCATION:Marth Ellitot Health Center Parking Lot
WEBSITE:
URL:
CONTACT:
ORGANIZER;CN="Sgt. Eric Krause":http://neighborsforneighbors.org/profi
 le/SgtEricKrause
ATTACH;FMTTYPE="image/jpeg":
ATTENDEE;ROLE=REQ-PARTICIPANT;PARTSTAT=ACCEPTED;RSVP=TRUE;CN="Colleen 
 Keller":http://neighborsforneighbors.org/profile/ColleenKeller
ATTENDEE;ROLE=REQ-PARTICIPANT;PARTSTAT=ACCEPTED;RSVP=TRUE;CN="Sgt. Eri
 c Krause":http://neighborsforneighbors.org/profile/SgtEricKrause
END:VEVENT
END:VCALENDAR
