BEGIN:VCALENDAR
PRODID:NingEventWidget-v1
VERSION:2.0
METHOD:PUBLISH
BEGIN:VEVENT
UID:1171189:Event:64547
DTSTAMP:20260421T201818Z
SUMMARY:Presentation and discussion on Decision-Making and Spiritual D
 iscernment
DESCRIPTION:\nNancy will be sharing from her new book, Decision-Making
  and Spiritual Discernment:The Sacred Art of Finding your Way. She wil
 l explore the essential themes in spiritual discernment and the import
 ant practice of attending to the Spirit’s nudges as we shape our dec
 isions. We will learn practices of spiritual discernment that can beco
 me habits for daily living. Nancy is a psychologist, teacher and spiri
 tual director who has led retreats at Pendle Hill and around the count
 ry for many years. She has been a core leader with School of the Spiri
 t and is presently on the staff of the ecumenical Oasis Ministries, de
 veloping their program, Contemplative Living, the Spirituality of Dail
 y Life. She is a member of Lancaster (PA) Quaker Meeting. You can lear
 n more about her work and writing at www.nancybieber.com. Contact Kath
 ryn House at kharthouse@gmail.com to RSVP or with questions.\n\n\n\n\n
 \nFor more information visit http://neighborsforneighbors.org/events/p
 resentation-and-discussion-on
DTSTART:20110130T230000Z
DTEND:20110131T003000Z
CATEGORIES:author, presentation, and, discussion
LOCATION:The First Baptist Church in Jamaica Plain
WEBSITE:http://firstbaptistjp.org
URL:http://firstbaptistjp.org
CONTACT:617-534-3992
ORGANIZER;CN="Kathryn House":http://neighborsforneighbors.org/profile/
 KathrynHouse96
ATTACH;FMTTYPE="image/jpeg":http://storage.ning.com/topology/rest/1.0/
 file/get/2245132187?profile=original
ATTENDEE;ROLE=REQ-PARTICIPANT;PARTSTAT=ACCEPTED;RSVP=TRUE;CN="Kathryn 
 House":http://neighborsforneighbors.org/profile/KathrynHouse96
END:VEVENT
END:VCALENDAR
