BEGIN:VCALENDAR
PRODID:NingEventWidget-v1
VERSION:2.0
METHOD:PUBLISH
BEGIN:VEVENT
UID:1171189:Event:62928
DTSTAMP:20260421T183907Z
SUMMARY:Pretty Things Pint Night
DESCRIPTION:Come and meet the brewers of Massachusetts most innovative
  craft beer at The Haven on Monday 31st January at 6pm. \nWe are offe
 ring Haven bar snacks and the Pretty Thing's St Botolph beer on tap. 
 \nBuy a pint and keep the glass!\n \nBoth Martha and Dann from Pretty
  Things will be in attendance to answer all your beer questions!\n\nFo
 r more information visit http://neighborsforneighbors.org/events/prett
 y-things-pint-night
DTSTART:20110131T230000Z
DTEND:20110201T010000Z
CATEGORIES:community, meet, up, over, pints
LOCATION:The Haven
WEBSITE:http://www.thehavenjp.com
URL:http://www.thehavenjp.com
CONTACT:617 524 2836
ORGANIZER;CN="Jason Waddleton":http://neighborsforneighbors.org/profil
 e/JasonWaddleton
ATTACH;FMTTYPE="image/jpeg":http://storage.ning.com/topology/rest/1.0/
 file/get/2163834873?profile=original
ATTENDEE;ROLE=REQ-PARTICIPANT;PARTSTAT=ACCEPTED;RSVP=TRUE;CN="Jason Wa
 ddleton":http://neighborsforneighbors.org/profile/JasonWaddleton
END:VEVENT
END:VCALENDAR
