BEGIN:VCALENDAR
PRODID:NingEventWidget-v1
VERSION:2.0
METHOD:PUBLISH
BEGIN:VEVENT
UID:1171189:Event:98544
DTSTAMP:20260421T233840Z
SUMMARY:Productivity Tech Tips Skillshare
DESCRIPTION:Ever wonder how busy people get so much done? Secrets reve
 aled!Join Socializing for Justice for a Productivity Tech Tips Skillsh
 are on July 8, 6:00 - 8:30 PM. [Note: This is the 2nd Monday in July.
 ]\n \nSoJust hosts events that draw progressives of all stripes that 
 share common values but may work on different issues. We run a monthly
  Skillshare Series, hosted by The NonProfit Center*, which increases o
 ur individual capacity for movement building.\n \nFee: $10-$20 (slidi
 ng scale) is split with the trainer.\nLimited space - register ahead o
 f time: http://www.sojust.org\nCredit cards accepted online. Cash onl
 y at the door (if space available).\nNewcomers always welcomed!\n \nS
 CHEDULE\n6:00-6:30 Socializing - bring your own dinner\n6:30-8:30 Tra
 ining and Q & A\n \nProductivity Tech Tips\nAt this skillshare we wil
 l go in depth to demonstrate many great tools you should be using ever
 yday, including Rapportive (social media Gmail integration), Google do
 cs and forms, Google voice, Jing (video captures), Dropbox and much mo
 re. \n \nABOUT OUR PRESENTERS\nJess Faulk (@JessFaulk) has been tal
 king tech for over 20 years. Her very first computer (not counting her
  Atari) was a hand-me-down black and white Macintosh Classic. However,
  it was her Macintosh Performa that really made her fall in love with 
 all of the possibilities that computers and the budding internet could
  bring into our lives. Read Jess' blog at http://www.jessfaulk.com.\n\
 nRobbie Samuels (@RobbieSamuels) is often asked how he manages to do 
 so much and still sleep. These tips are the answer. His non-stop sched
 ule includes running 2 events a month for Socializing for Justice, 23 
 events a year for Gay & Lesbian Advocates & Defenders and 1-4 training
 s a month \"on the side\". No wonder Boston City Council named his bir
 thday \"Robbie Samuels Day\" in 2011!  Learn more about his trainings
 , at http://www.robbiesamuels.com.\n \n*  DIRECTIONS - The NonProfit
  Center is located one block from South Station at 89 South Street. T
 he Center is physically accessible through the main lobby. http://bit.
 ly/tweyZQ\n \n_\n\n\n\n\nFor more information visit http://neighborsf
 orneighbors.org/events/productivity-tech-tips-skillshare
DTSTART:20130708T220000Z
DTEND:20130709T003000Z
CATEGORIES:workshop
LOCATION:89 South Street, Boston, MA
WEBSITE:
URL:
CONTACT:
ORGANIZER;CN="Socializing for Justice":http://neighborsforneighbors.or
 g/profile/SocializingforJustice71
ATTACH;FMTTYPE="image/jpeg":
ATTENDEE;ROLE=REQ-PARTICIPANT;PARTSTAT=ACCEPTED;RSVP=TRUE;CN="Socializ
 ing for Justice":http://neighborsforneighbors.org/profile/Socializingf
 orJustice71
END:VEVENT
END:VCALENDAR
