BEGIN:VCALENDAR
PRODID:NingEventWidget-v1
VERSION:2.0
METHOD:PUBLISH
BEGIN:VEVENT
UID:1171189:Event:107576
DTSTAMP:20260421T203253Z
SUMMARY:ProfDev: Accelerate Your Career - Strategic Resumes and Cover 
 Letters
DESCRIPTION:Did you know a professionally written resume and cover let
 ter will increase your call backs by over 65%? \nJoin Socializing for
  Justice for a ProfDev (professional development) training\nAccelerate
  Your Nonprofit Career: Strategic Resume and Cover Letters on Monday, 
 April 7, 6:00 - 8:30 PM.\nFee: $10 advance/$20 door - split with train
 er \nLocation: The NonProfit Center 89 South Street, Boston, MA\nLimi
 ted space - register ahead of time: www.sojust.org \nCredit cards acc
 epted online. Cash only at the door (if space available). \nNewcomers
  always welcomed!\n\nAccelerate Your Nonprofit Career: Strategic Resum
 e and Cover Letters \nThe purpose of this workshop is to accelerate c
 areer growth for nonprofit professionals, career changers, volunteers/
 interns, and social impact leaders who want to leverage their voluntee
 r or pro-bono experience as they search for a nonprofit job. An ineffe
 ctive resume and cover letter can cost thousands of dollars in lost ti
 me, income, and opportunity. Learn tips for writing a strong resume, h
 ow to weave the right story on your cover letter to have the greatest 
 impact, and leave with a personal “mission statement” help you wit
 h networking on and off line.\n\nABOUT OUR PRESENTER \nMark McCurdy i
 s the author of \"Strategic Volunteering: 50 Ingredients to Transform 
 Your Life and Career\" and Founder of the Nonprofit Career Coach, a co
 mpany which helps job-seekers and nonprofit organizations fulfill thei
 r missions. They do this by providing strategic one-on-one career coac
 hing, mentoring, workshops and training to job seekers who want help t
 o accelerate their careers for the greater good. Mark is an inspiring 
 coach, in-demand speaker, trainer and one of the first nonprofit caree
 r coaches in the country. Since 2008, he has helped over 4000 professi
 onals accelerate their nonprofit careers and assisted nonprofit organi
 zations in unearthing skilled human capital.\n\nSCHEDULE \n6:00-6:30 
 Socializing -  bring your own dinner \n6:30-8:30 Training and Q&A\n\
 n*  DIRECTIONS - The NonProfit Center is located one block from South
  Station at 89 South Street. The Center is physically accessible throu
 gh the main lobby.\n__________________________________________________
 _______  \nSocializing for Justice - www.sojust.org \nSince 2006, we
 've been building this great sandbox where we can bring progressives o
 f all stripes together and try out new ideas in this \"Movement Moment
 \". Spaces like this are crucial as we start to reframe and build new 
 visions for our movement(s).\nYES, WE MEAN YOU. We've got members of a
 ll ages, races, genders, sexual orientations, levels of activism and p
 rofessions. We hope you see someone like yourself and meet someone you
  otherwise wouldn't have.\n\nFor more information visit http://neighbo
 rsforneighbors.org/events/profdev-accelerate-your-career-strategic-res
 umes-and-cover
DTSTART:20140407T220000Z
DTEND:20140408T010000Z
CATEGORIES:professional, development
LOCATION:The NonProfit Center
WEBSITE:
URL:
CONTACT:
ORGANIZER;CN="Socializing for Justice":http://neighborsforneighbors.or
 g/profile/SocializingforJustice71
ATTACH;FMTTYPE="image/jpeg":http://storage.ning.com/topology/rest/1.0/
 file/get/2245142261?profile=original
ATTENDEE;ROLE=REQ-PARTICIPANT;PARTSTAT=ACCEPTED;RSVP=TRUE;CN="Socializ
 ing for Justice":http://neighborsforneighbors.org/profile/Socializingf
 orJustice71
END:VEVENT
END:VCALENDAR
